BEGIN:VCALENDAR
VERSION:2.0
PRODID:-//ChamberMaster//Event Calendar 2.0//EN
METHOD:PUBLISH
X-PUBLISHED-TTL:P3D
REFRESH-INTERVAL:P3D
CALSCALE:GREGORIAN
BEGIN:VEVENT
DTSTART:20200115T003000Z
DTEND:20200115T020000Z
X-MICROSOFT-CDO-ALLDAYEVENT:FALSE
SUMMARY:Natural Strategies for Cold & Flu Season-doTERRA Essential Oil Class
DESCRIPTION:doTERRA essential oils and products can make the cold and flu season more bearable without side effects or toxins! This free class includes a make & take portion where you will have a chance to make some doTERRA homemade cough syrup using essential oils and honey. The oils can help soothe the throat\, boost the immune system and settle a cough! Questions call Trudy at 651-491-0962 mydoterra.com/trudylodien
X-ALT-DESC;FMTTYPE=text/html:doTERRA essential oils and products can make the cold and flu season more bearable without side effects or toxins! This free class includes a make &amp\; take portion where you will have a chance to make some doTERRA homemade cough syrup using essential oils and honey. The oils can help soothe the throat\, boost the immune system and settle a cough! Questions call Trudy at 651-491-0962 <a href="http://www.mydoterra.com/trudylodien">mydoterra.com/trudylodien</a>
LOCATION:Chamber Office 30525 Linden Street\, Lindstrom 55045
UID:e.3575.14
SEQUENCE:3
DTSTAMP:20260424T162936Z
URL:https://business.chisagolakeschamber.com/events/details/natural-strategies-for-cold-flu-season-doterra-essential-oil-class-14
END:VEVENT

END:VCALENDAR
