BEGIN:VCALENDAR
VERSION:2.0
PRODID:-//ChamberMaster//Event Calendar 2.0//EN
METHOD:PUBLISH
X-PUBLISHED-TTL:P3D
REFRESH-INTERVAL:P3D
CALSCALE:GREGORIAN
BEGIN:VEVENT
DTSTART;VALUE=DATE:20220409
DTEND;VALUE=DATE:20220411
TRANSP:TRANSPARENT
X-MICROSOFT-CDO-ALLDAYEVENT:TRUE
SUMMARY:New Vintage Days at Winehaven!
DESCRIPTION:During this special event\, the new 2021 vintage will be released\, and special flights will be available.  Be the first to try these new wines from the 2021 vintage!
X-ALT-DESC;FMTTYPE=text/html:During this special event\, the new 2021 vintage will be released\, and special flights will be available. &nbsp\;Be the first to try these new wines from the 2021 vintage!
LOCATION:Winehaven Winery and Vineyard 10020 Deer Garden Lane Chisago City\, MN 55013
UID:e.3575.3056
SEQUENCE:3
DTSTAMP:20260421T110416Z
URL:https://business.chisagolakeschamber.com/events/details/new-vintage-days-at-winehaven-04-09-2022-3056
END:VEVENT

END:VCALENDAR
