BEGIN:VCALENDAR
VERSION:2.0
PRODID:-//ChamberMaster//Event Calendar 2.0//EN
METHOD:PUBLISH
X-PUBLISHED-TTL:P3D
REFRESH-INTERVAL:P3D
CALSCALE:GREGORIAN
BEGIN:VEVENT
DTSTART:20200229T003000Z
DTEND:20200229T020000Z
X-MICROSOFT-CDO-ALLDAYEVENT:FALSE
SUMMARY:Northwoods Roasterie Community Book Club
DESCRIPTION:Come one come all! Book Club meets on the last Friday of the month. Our book for February is The Emigrants by Vilhelm Moberg.
X-ALT-DESC;FMTTYPE=text/html:<span style="color: rgb(0\, 0\, 0)\; font-family: Roboto\, &quot\;Lucida Grande&quot\;\, arial\, sans-serif\; font-size: 14px\; text-align: justify\;">Come one come all! Book Club meets on the last Friday of the month. Our book for February is&nbsp\;</span><em style="color: rgb(0\, 0\, 0)\; font-family: Roboto\, &quot\;Lucida Grande&quot\;\, arial\, sans-serif\; font-size: 14px\; text-align: justify\;">The Emigrants</em><span style="color: rgb(0\, 0\, 0)\; font-family: Roboto\, &quot\;Lucida Grande&quot\;\, arial\, sans-serif\; font-size: 14px\; text-align: justify\;">&nbsp\;by Vilhelm Moberg.</span>
LOCATION:12710 N 1st Ave Lindstrom\, MN 55045 651-257-5240
UID:e.3575.192
SEQUENCE:3
DTSTAMP:20260424T150345Z
URL:https://business.chisagolakeschamber.com/events/details/northwoods-roasterie-community-book-club-192
END:VEVENT

END:VCALENDAR
