BEGIN:VCALENDAR
VERSION:2.0
PRODID:-//ChamberMaster//Event Calendar 2.0//EN
METHOD:PUBLISH
X-PUBLISHED-TTL:P3D
REFRESH-INTERVAL:P3D
CALSCALE:GREGORIAN
BEGIN:VEVENT
DTSTART:20221016T203000Z
DTEND:20221016T220000Z
X-MICROSOFT-CDO-ALLDAYEVENT:FALSE
SUMMARY:October Fall Tea Party at Gustaf's On Main
DESCRIPTION:Gustaf's October Fall Tea\nCome celebrate the crispness of the fall season with close friends & family!!\n\nEnjoy the Gustaf Anderson home over a meal of unlimited multiple teas with finger sandwiches\, scones\, Devonshire cream\, and dessert at your own private table.\n\n$25 per guest plus tax and gratuity. Reservations with card needed to hold reservation prior to event. No refunds unless inclement weather. Space is limited. 10 years of age and above please.\n\nPlease notify us of number in your party and if lower level is a necessity.\n\nContact us at 651 263 0737 to reserve your table.
X-ALT-DESC;FMTTYPE=text/html:<span style="font-size:14px\;"><span style="font-family:arial\;"><strong>Gustaf&#39\;s October Fall Tea</strong></span></span>\n<div class="l7ghb35v kjdc1dyq kmwttqpk gh25dzvf jikcssrz" style="overflow-wrap: break-word\; margin: 0.5em 0px 0px\; font-family: &quot\;Segoe UI Historic&quot\;\, &quot\;Segoe UI&quot\;\, Helvetica\, Arial\, sans-serif\; color: rgb(5\, 5\, 5)\; font-size: 15px\;"><span style="font-size:14px\;"><span style="font-family:arial\;">Come celebrate the crispness of the fall season with close friends &amp\; family!!</span></span></div>\n\n<div class="l7ghb35v kjdc1dyq kmwttqpk gh25dzvf jikcssrz" style="overflow-wrap: break-word\; margin: 0.5em 0px 0px\; font-family: &quot\;Segoe UI Historic&quot\;\, &quot\;Segoe UI&quot\;\, Helvetica\, Arial\, sans-serif\; color: rgb(5\, 5\, 5)\; font-size: 15px\;"><span style="font-size:14px\;"><span style="font-family:arial\;">Enjoy the Gustaf Anderson home over a meal of unlimited multiple teas with finger sandwiches\, scones\, Devonshire cream\, and dessert at your own private table.</span></span></div>\n\n<div class="l7ghb35v kjdc1dyq kmwttqpk gh25dzvf jikcssrz" style="overflow-wrap: break-word\; margin: 0.5em 0px 0px\; font-family: &quot\;Segoe UI Historic&quot\;\, &quot\;Segoe UI&quot\;\, Helvetica\, Arial\, sans-serif\; color: rgb(5\, 5\, 5)\; font-size: 15px\;"><span style="font-size:14px\;"><span style="font-family:arial\;">$25 per guest plus tax and gratuity. Reservations with card needed to hold reservation prior to event. No refunds unless inclement weather. Space is limited. 10 years of age and above please.</span></span></div>\n\n<div class="l7ghb35v kjdc1dyq kmwttqpk gh25dzvf jikcssrz" style="overflow-wrap: break-word\; margin: 0.5em 0px 0px\; font-family: &quot\;Segoe UI Historic&quot\;\, &quot\;Segoe UI&quot\;\, Helvetica\, Arial\, sans-serif\; color: rgb(5\, 5\, 5)\; font-size: 15px\;"><span style="font-size:14px\;"><span style="font-family:arial\;">Please notify us of number in your party and if lower level is a necessity.</span></span></div>\n\n<div class="l7ghb35v kjdc1dyq kmwttqpk gh25dzvf jikcssrz" style="overflow-wrap: break-word\; margin: 0.5em 0px 0px\; font-family: &quot\;Segoe UI Historic&quot\;\, &quot\;Segoe UI&quot\;\, Helvetica\, Arial\, sans-serif\; color: rgb(5\, 5\, 5)\; font-size: 15px\;"><span style="font-size:14px\;"><span style="font-family:arial\;">Contact us at 651 263 0737 to reserve your table.</span></span></div>\n
LOCATION:Gustaf's On Main Eatery 13045 Lake Blvd Lindstrom\, MN 55045
UID:e.3575.4903
SEQUENCE:3
DTSTAMP:20260422T215145Z
URL:https://business.chisagolakeschamber.com/events/details/october-fall-tea-party-at-gustaf-s-on-main-4903
END:VEVENT

END:VCALENDAR
