BEGIN:VCALENDAR
VERSION:2.0
PRODID:-//ChamberMaster//Event Calendar 2.0//EN
METHOD:PUBLISH
X-PUBLISHED-TTL:P3D
REFRESH-INTERVAL:P3D
CALSCALE:GREGORIAN
BEGIN:VEVENT
DTSTART:20220519T220000Z
DTEND:20220520T000000Z
X-MICROSOFT-CDO-ALLDAYEVENT:FALSE
SUMMARY:Oil Painting 101 - Dreamscapes at Glädje
DESCRIPTION:This is a 2-hour workshop to learn to create impressionistic and surreal landscapes playing in color and texture!
X-ALT-DESC;FMTTYPE=text/html:This is a 2-hour workshop to learn to create impressionistic and surreal landscapes playing in color and texture!
LOCATION:Gl dje 13025 Lake Boulevard Lindstrom\, MN 55045
UID:e.3575.3854
SEQUENCE:3
DTSTAMP:20260421T115958Z
URL:https://business.chisagolakeschamber.com/events/details/oil-painting-101-dreamscapes-at-gl&#228;dje-3854
END:VEVENT

END:VCALENDAR
