BEGIN:VCALENDAR
VERSION:2.0
PRODID:-//ChamberMaster//Event Calendar 2.0//EN
METHOD:PUBLISH
X-PUBLISHED-TTL:P3D
REFRESH-INTERVAL:P3D
CALSCALE:GREGORIAN
BEGIN:VEVENT
DTSTART:20221029T000000Z
DTEND:20221030T023000Z
X-MICROSOFT-CDO-ALLDAYEVENT:FALSE
SUMMARY:Ojiketa Haunt
DESCRIPTION:Come out to Ojiketa Haunt & try not to lose your head! Forest of Fear is this year's haunt theme. We invite you once again to walk through the forest\, cross the bridge if you dare-and enter the haunted home of the forest dwellers. Cost will be $5 a body\, $3 a body with a non-perishable food item.
X-ALT-DESC;FMTTYPE=text/html:Come out to Ojiketa Haunt &amp\; try not to lose your head! Forest of Fear is this year&#39\;s haunt theme. We invite you once again to walk through the forest\, cross the bridge if you dare-and enter the haunted home of the forest dwellers. Cost will be $5 a body\, $3 a body with a non-perishable food item.
LOCATION:Ojiketa Regional Park 27500 Kirby Avenue Chisago City\, MN 55013
UID:e.3575.5108
SEQUENCE:3
DTSTAMP:20260422T215128Z
URL:https://business.chisagolakeschamber.com/events/details/ojiketa-haunt-5108
END:VEVENT

END:VCALENDAR
