BEGIN:VCALENDAR
VERSION:2.0
PRODID:-//ChamberMaster//Event Calendar 2.0//EN
METHOD:PUBLISH
X-PUBLISHED-TTL:P3D
REFRESH-INTERVAL:P3D
CALSCALE:GREGORIAN
BEGIN:VEVENT
DTSTART:20250517T160000Z
DTEND:20250517T220000Z
X-MICROSOFT-CDO-ALLDAYEVENT:FALSE
SUMMARY:Ojiketa Holistic Expo
DESCRIPTION:What better way to prepare your mind\, body\, and soul before the summer season than by joining us at Chisago City's Ojiketa Holistic Living Expo held in Strom Hall Saturday May 17th \, 11am till 5pm. Reset and replenish yourself after a busy winter by visiting more than 15 vendors offering insight and guidance. Plans are to highlight holistic oils\, massage\, crystals\, jewelry\, soaps\, meditation/hypnotherapy\, acupuncture\, craniosacral therapy\, reflexology\, yoga\, card readings\, life coaching and more. We are scheduling speakers throughout the day on related topics. We have gathered many experts in several fields of wellness\, and we hope all leave with a new way to soothe your mind\, body\, and your soul! This is a free event\, held in Strom Hall\, the first 50 attendees will receive a goodie bag. We will have door prizes and interactive events all day. There will be a place to purchase a light lunch. Live acoustic musicians will be playing all day and provide soft background music for this event. We hope you grab a friend to come experience a day of pampering.
X-ALT-DESC;FMTTYPE=text/html:What better way to prepare your mind\, body\, and soul before the summer season than by joining us at Chisago City&rsquo\;s Ojiketa Holistic Living Expo held in Strom Hall Saturday May 17th \, 11am till 5pm. Reset and replenish yourself after a busy winter by visiting more than 15 vendors offering insight and guidance. Plans are to highlight holistic oils\, massage\, crystals\, jewelry\, soaps\, meditation/hypnotherapy\, acupuncture\, craniosacral therapy\, reflexology\, yoga\, card readings\, life coaching and more. We are scheduling speakers throughout the day on related topics. We have gathered many experts in several fields of wellness\, and we hope all leave with a new way to soothe your mind\, body\, and your soul! This is a free event\, held in Strom Hall\, the first 50 attendees will receive a goodie bag. We will have door prizes and interactive events all day. There will be a place to purchase a light lunch. Live acoustic musicians will be playing all day and provide soft background music for this event. We hope you grab a friend to come experience a day of pampering.
LOCATION:Ojiketa Regional Park 27500 Kirby Ave. Chisago City\, MN 55013
UID:e.3575.8220
SEQUENCE:3
DTSTAMP:20260421T225451Z
URL:https://business.chisagolakeschamber.com/events/details/ojiketa-holistic-expo-8220
END:VEVENT

END:VCALENDAR
