BEGIN:VCALENDAR
VERSION:2.0
PRODID:-//ChamberMaster//Event Calendar 2.0//EN
METHOD:PUBLISH
X-PUBLISHED-TTL:P3D
REFRESH-INTERVAL:P3D
CALSCALE:GREGORIAN
BEGIN:VEVENT
DTSTART:20220424T140000Z
DTEND:20220424T163000Z
X-MICROSOFT-CDO-ALLDAYEVENT:FALSE
SUMMARY:Pancake Breakfast at St. Bridget of Sweden Catholic Church
DESCRIPTION:Pancake Breakfast the 4th Sunday of every month following Sunday Masses. Sponsored by the local Knights of Columbus. Everyone is welcome!
X-ALT-DESC;FMTTYPE=text/html:Pancake Breakfast the 4th Sunday of every month following Sunday Masses. Sponsored by the local Knights of Columbus. Everyone is welcome!
LOCATION:St. Bridget of Sweden Catholic Church Social Hall 13060 Lake Blvd Lindstrom\, MN 55045
UID:e.3575.3222
SEQUENCE:3
DTSTAMP:20260421T110550Z
URL:https://business.chisagolakeschamber.com/events/details/pancake-breakfast-at-st-bridget-of-sweden-catholic-church-3222
END:VEVENT

END:VCALENDAR
