BEGIN:VCALENDAR
VERSION:2.0
PRODID:-//ChamberMaster//Event Calendar 2.0//EN
METHOD:PUBLISH
X-PUBLISHED-TTL:P3D
REFRESH-INTERVAL:P3D
CALSCALE:GREGORIAN
BEGIN:VEVENT
DTSTART:20220423T140000Z
DTEND:20220423T160000Z
X-MICROSOFT-CDO-ALLDAYEVENT:FALSE
SUMMARY:Parking Lot Food Drive
DESCRIPTION:Parking Lot Food Drive at Chisago Lake Lutheran Church\n\nPlease drop off canned goods along with other non perishables\, paper products\, & personal Hygiene products.
X-ALT-DESC;FMTTYPE=text/html:<p>Parking Lot Food Drive at Chisago Lake Lutheran Church<br />\nPlease drop off canned goods along with other non perishables\, paper products\, &amp\; personal Hygiene products.</p>\n
LOCATION:Chisago Lake Lutheran Church - lower parking lot 1 Summit Avenue Center City\, MN 55012
UID:e.3575.3411
SEQUENCE:3
DTSTAMP:20260421T115856Z
URL:https://business.chisagolakeschamber.com/events/details/parking-lot-food-drive-3411
END:VEVENT

END:VCALENDAR
