BEGIN:VCALENDAR
VERSION:2.0
PRODID:-//ChamberMaster//Event Calendar 2.0//EN
METHOD:PUBLISH
X-PUBLISHED-TTL:P3D
REFRESH-INTERVAL:P3D
CALSCALE:GREGORIAN
BEGIN:VEVENT
DTSTART:20220403T160000Z
DTEND:20220403T200000Z
X-MICROSOFT-CDO-ALLDAYEVENT:FALSE
SUMMARY:Photo With The Easter Bunny!
DESCRIPTION:Get your picture taken with the Easter Bunny! Pictures will be taken by Krista with Dream Capture Photography. This FREE Community event is paid for by the O Team with Realty Group & Dare to Be You Boutique! Dare to Be You Boutique will have a Special One Day Sale and the O Team with Realty Group will have Easter Basket Giveaways!
X-ALT-DESC;FMTTYPE=text/html:Get your picture taken with the Easter Bunny! Pictures will be taken by Krista with Dream Capture Photography. This FREE Community event is paid for by the O Team with Realty Group &amp\; Dare to Be You Boutique!&nbsp\;Dare to Be You Boutique will have a Special One Day Sale and the O Team with Realty Group will have Easter Basket Giveaways!
LOCATION:13205 Saint Croix Avenue Lindstrom\, MN 55045
UID:e.3575.3213
SEQUENCE:3
DTSTAMP:20260421T105833Z
URL:https://business.chisagolakeschamber.com/events/details/photo-with-the-easter-bunny-3213
END:VEVENT

END:VCALENDAR
