BEGIN:VCALENDAR
VERSION:2.0
PRODID:-//ChamberMaster//Event Calendar 2.0//EN
METHOD:PUBLISH
X-PUBLISHED-TTL:P3D
REFRESH-INTERVAL:P3D
CALSCALE:GREGORIAN
BEGIN:VEVENT
DTSTART:20200108T210000Z
DTEND:20200112T230000Z
X-MICROSOFT-CDO-ALLDAYEVENT:FALSE
SUMMARY:Picket Fence Gals Sale
DESCRIPTION:A large Victorian 2-story house filled with affordable\, ever-changing items.Find antiques & vintage items\, painted furniture\, garden items\, home & cabin decor\, re-purposed items\, textiles and so much more!
X-ALT-DESC;FMTTYPE=text/html:A large Victorian 2-story house filled with affordable\, ever-changing items.Find antiques &amp\; vintage items\, painted furniture\, garden items\, home &amp\; cabin decor\, re-purposed items\, textiles and so much more!
LOCATION:
UID:e.3575.2
SEQUENCE:3
DTSTAMP:20260424T163832Z
URL:https://business.chisagolakeschamber.com/events/details/picket-fence-gals-sale-2
END:VEVENT

END:VCALENDAR
