BEGIN:VCALENDAR
VERSION:2.0
PRODID:-//ChamberMaster//Event Calendar 2.0//EN
METHOD:PUBLISH
X-PUBLISHED-TTL:P3D
REFRESH-INTERVAL:P3D
CALSCALE:GREGORIAN
BEGIN:VEVENT
DTSTART:20220522T190000Z
DTEND:20220522T210000Z
X-MICROSOFT-CDO-ALLDAYEVENT:FALSE
SUMMARY:Pints & Pottery/Gnomes at Uncommon Loon Brewing Co.
DESCRIPTION:No artistic ability needed. Come out for an afternoon drinking great beer and glazing a cute gnome jar\, kids welcome!\n\nThis Paint Your Own Pottery event is our adorable gnome jar. Meet up with your friends or family and bring your creativity to Uncommon Loon Brewing Company for a fun afternoon.\n\nGnomes are not only magical and adorable\, but they are also trendy! Our ceramic Gnome Jar is 7 " H x 6" W x 5 " D.\n\nThere are so many creative possibilities for this charming jar. Gnome more regrets\, buy your ticket today!\n\nlncluded in your ticket price are your ceramic piece\, a free drink\, over 20 different glaze colors\, use of brushes\, instruction\, firing\, glazing and delivery of finished piece back to Uncommon Loon within 7-10 days for pick up.
X-ALT-DESC;FMTTYPE=text/html:<div>\n<div class="kvgmc6g5 cxmmr5t8 oygrvhab hcukyx3x c1et5uql" style="overflow-wrap: break-word\; margin: 0px\; font-family: &quot\;Segoe UI Historic&quot\;\, &quot\;Segoe UI&quot\;\, Helvetica\, Arial\, sans-serif\; color: rgb(5\, 5\, 5)\; font-size: 15px\;">No artistic ability needed. Come out for an afternoon drinking great beer and glazing a cute gnome jar\, kids welcome!</div>\n\n<div class="cxmmr5t8 oygrvhab hcukyx3x c1et5uql o9v6fnle" style="overflow-wrap: break-word\; margin: 0.5em 0px 0px\; font-family: &quot\;Segoe UI Historic&quot\;\, &quot\;Segoe UI&quot\;\, Helvetica\, Arial\, sans-serif\; color: rgb(5\, 5\, 5)\; font-size: 15px\;">This Paint Your Own Pottery event is our adorable gnome jar. Meet up with your friends or family and bring your creativity to Uncommon Loon Brewing Company for a fun afternoon.<br />\nGnomes are not only magical and adorable\, but they are also trendy! Our ceramic Gnome Jar is 7&frac14\;&rdquo\; H x 6&rdquo\; W x 5&frac34\;&rdquo\; D.<br />\nThere are so many creative possibilities for this charming jar. Gnome more regrets\, buy your ticket today!<br />\nlncluded in your ticket price are&nbsp\;your ceramic piece\, a free drink\, over 20 different glaze colors\, use of brushes\, instruction\, firing\, glazing and delivery of finished piece back to Uncommon Loon within 7-10 days for pick up.</div>\n</div>\n
LOCATION:Uncommon Loon Brewing Co. 10825 Lake Boulevard Chisago City\, MN 55013
UID:e.3575.4071
SEQUENCE:3
DTSTAMP:20260421T115232Z
URL:https://business.chisagolakeschamber.com/events/details/pints-pottery-gnomes-at-uncommon-loon-brewing-co-4071
END:VEVENT

END:VCALENDAR
