BEGIN:VCALENDAR
VERSION:2.0
PRODID:-//ChamberMaster//Event Calendar 2.0//EN
METHOD:PUBLISH
X-PUBLISHED-TTL:P3D
REFRESH-INTERVAL:P3D
CALSCALE:GREGORIAN
BEGIN:VEVENT
DTSTART:20220320T170000Z
DTEND:20220320T200000Z
X-MICROSOFT-CDO-ALLDAYEVENT:FALSE
SUMMARY:Plant Bar ~ Create & Take Event
DESCRIPTION:Join Succ It Up Buttercup at Uncommon Loon Brewing Co. in Chisago City on Sunday\, March 20th for a self paced\, open house style plant bar event.\n\n\n\nThis is a come as you please\, open house style event. No registration or ticket purchase needed It would be helpful to mark yourself as "Going" on the Facebook event page so they can be sure to bring enough supplies for everyone attending.  Come any time between 12 pm to 3 pm.\n\n\n\nHave a craft beer or hard seltzer and relax while you plant!  There are easy to follow step by step directions that  will guide you through the process and have you on your way to creating a beautiful plant arrangement.  There will be a large variety of containers from vintage to modern and a whole bunch of beautiful succulents\, cacti\, and houseplants.  If you have your own container you would like to use\, feel free to bring it and we will take $1 off your total.\n\n\n\nCost starts at $20 (cash or credit) depending on how many\, and which type of plants you choose to put in your container. All prices listed below include everything you need to plant and decorate your arrangement\, including any size container.\n\n\n\nBREAKDOWN OF COST:\n\nSUCCULENTS-Starts at $20 and increases $5 for each additional succulent added. Cacti may be substituted for succulents for an additional $3 per cactus substituted (includes all planting materials needed to plant and decorate).\n\nHOUSEPLANTS-One houseplant of your choice in ONE container is $25 and includes all planting materials needed to plant and decorate.\n\nCosts listed above are PER container arrangement.\n\n\n\nVisit www.succitupbuttercup.com for more information. Hope to see you there!
X-ALT-DESC;FMTTYPE=text/html:<span style="color:rgb(5\, 5\, 5)\; font-family:segoe ui historic\,segoe ui\,helvetica\,arial\,sans-serif\; font-size:15px">Join Succ It Up Buttercup at Uncommon Loon Brewing Co. in Chisago City on Sunday\, March 20th for a self paced\, open house style plant bar event.</span><br />\n<br />\n<span style="color:rgb(5\, 5\, 5)\; font-family:segoe ui historic\,segoe ui\,helvetica\,arial\,sans-serif\; font-size:15px">This is a come as you please\, open house style event. No registration or ticket purchase needed It would be helpful to mark yourself as &quot\;Going&quot\; on the Facebook event page so they can be sure to bring enough supplies for everyone attending.&nbsp\;&nbsp\;</span><span style="color:rgb(5\, 5\, 5)\; font-family:segoe ui historic\,segoe ui\,helvetica\,arial\,sans-serif\; font-size:15px">Come any time between 12 pm to 3 pm.</span><br />\n<br />\n<span style="color:rgb(5\, 5\, 5)\; font-family:segoe ui historic\,segoe ui\,helvetica\,arial\,sans-serif\; font-size:15px">Have a craft beer or hard seltzer and relax while you plant!&nbsp\; There are easy to follow step by step directions that&nbsp\; will guide you through the process and have you on your way to creating a beautiful plant arrangement.&nbsp\; There will be a large variety of containers from vintage to modern and a whole bunch of beautiful succulents\, cacti\, and houseplants.&nbsp\;&nbsp\;</span><span style="color:rgb(5\, 5\, 5)\; font-family:segoe ui historic\,segoe ui\,helvetica\,arial\,sans-serif\; font-size:15px">If you have your own container you would like to use\, feel free to bring it and we will take $1 off your total.</span><br />\n<br />\n<span style="color:rgb(5\, 5\, 5)\; font-family:segoe ui historic\,segoe ui\,helvetica\,arial\,sans-serif\; font-size:15px">Cost starts at $20 (cash or credit) depending on how many\, and which type of plants you choose to put in your container. All prices listed below include everything you need to plant and decorate your arrangement\, including any size container.</span><br />\n<br />\n<span style="color:rgb(5\, 5\, 5)\; font-family:segoe ui historic\,segoe ui\,helvetica\,arial\,sans-serif\; font-size:15px">BREAKDOWN OF COST:</span><br />\n<span style="color:rgb(5\, 5\, 5)\; font-family:segoe ui historic\,segoe ui\,helvetica\,arial\,sans-serif\; font-size:15px">SUCCULENTS-</span><span style="color:rgb(5\, 5\, 5)\; font-family:segoe ui historic\,segoe ui\,helvetica\,arial\,sans-serif\; font-size:15px">Starts at $20 and increases $5 for each additional succulent added. Cacti may be substituted for succulents for an additional $3 per cactus substituted (includes all planting materials needed to plant and decorate).</span><br />\n<span style="color:rgb(5\, 5\, 5)\; font-family:segoe ui historic\,segoe ui\,helvetica\,arial\,sans-serif\; font-size:15px">HOUSEPLANTS-</span><span style="color:rgb(5\, 5\, 5)\; font-family:segoe ui historic\,segoe ui\,helvetica\,arial\,sans-serif\; font-size:15px">One houseplant of your choice in ONE container is $25 and includes all planting materials needed to plant and decorate.</span><br />\n<span style="color:rgb(5\, 5\, 5)\; font-family:segoe ui historic\,segoe ui\,helvetica\,arial\,sans-serif\; font-size:15px">Costs listed above are PER container arrangement.</span><br />\n<br />\n<span style="color:rgb(5\, 5\, 5)\; font-family:segoe ui historic\,segoe ui\,helvetica\,arial\,sans-serif\; font-size:15px">Visit&nbsp\;</span><a class="oajrlxb2 g5ia77u1 qu0x051f esr5mh6w e9989ue4 r7d6kgcz rq0escxv nhd2j8a9 nc684nl6 p7hjln8o kvgmc6g5 cxmmr5t8 oygrvhab hcukyx3x jb3vyjys rz4wbd8a qt6c0cv9 a8nywdso i1ao9s8h esuyzwwr f1sip0of lzcic4wl gpro0wi8 py34i1dx" href="http://www.succitupbuttercup.com/?fbclid=IwAR0qBIBX6uxI7X7IQTK1USUylto7logkxMmCdvODRfmGnibTN2AAwS4xK7M" rel="nofollow noopener" style="color: var(--blue-link)\; cursor: pointer\; text-decoration-line: none\; outline: none\; list-style: none\; border-width: 0px\; border-style: initial\; border-color: initial\; padding: 0px\; margin: 0px\; touch-action: manipulation\; display: inline\; -webkit-tap-highlight-color: transparent\; box-sizing: border-box\; font-family: &quot\;Segoe UI Historic&quot\;\, &quot\;Segoe UI&quot\;\, Helvetica\, Arial\, sans-serif\; font-size: 15px\;" tabindex="0" target="_blank">www.succitupbuttercup.com</a><span style="color:rgb(5\, 5\, 5)\; font-family:segoe ui historic\,segoe ui\,helvetica\,arial\,sans-serif\; font-size:15px">&nbsp\;for more information. Hope to see you there!</span>
LOCATION:
UID:e.3575.3070
SEQUENCE:3
DTSTAMP:20260421T094300Z
URL:https://business.chisagolakeschamber.com/events/details/plant-bar-create-take-event-3070
END:VEVENT

END:VCALENDAR
