BEGIN:VCALENDAR
VERSION:2.0
PRODID:-//ChamberMaster//Event Calendar 2.0//EN
METHOD:PUBLISH
X-PUBLISHED-TTL:P3D
REFRESH-INTERVAL:P3D
CALSCALE:GREGORIAN
BEGIN:VEVENT
DTSTART:20220522T200000Z
DTEND:20220522T230000Z
X-MICROSOFT-CDO-ALLDAYEVENT:FALSE
SUMMARY:Pleasant Valley Orchard Bloom Walk 2022
DESCRIPTION:Pleasant Valley Orchard invites you to enjoy the orchard in bloom! Take a walk\, snap a photo and say hi to the goats. We love welcoming you to the orchard during this beautiful time of the year!
X-ALT-DESC;FMTTYPE=text/html:Pleasant Valley Orchard invites you to enjoy the orchard in bloom! Take a walk\, snap a photo and say hi to the goats. We love welcoming you to the orchard during this beautiful time of the year!
LOCATION:Pleasant Valley Orchard 17325 Pleasant Valley Road Shafer\, MN 55074
UID:e.3575.4274
SEQUENCE:3
DTSTAMP:20260421T115614Z
URL:https://business.chisagolakeschamber.com/events/details/pleasant-valley-orchard-bloom-walk-2022-4274
END:VEVENT

END:VCALENDAR
