BEGIN:VCALENDAR
VERSION:2.0
PRODID:-//ChamberMaster//Event Calendar 2.0//EN
METHOD:PUBLISH
X-PUBLISHED-TTL:P3D
REFRESH-INTERVAL:P3D
CALSCALE:GREGORIAN
BEGIN:VEVENT
DTSTART:20201203T160000Z
DTEND:20201205T220000Z
X-MICROSOFT-CDO-ALLDAYEVENT:FALSE
SUMMARY:Pleasant Valley Orchard Christmas Sale!
DESCRIPTION:It's our last three days of the 2020 season! Plan to stock up on your favorite apples\, bakery and treats!\n\n \n\nWe've got specials throughout the store on many items. And if you haven't explored our fun and unique Christmas gifts\, now's the perfect time!\n\n \n\nThe weather forecast looks great\, so take a few minutes to walk the nature trail and enjoy the quiet of the orchard pre-winter season.\n\n \n\nApples available: Honeycrisp\, SweeTango \, Haralson\, Fireside\, Honeygold\, and Keepsake!\n\n \n\nGet a bushel (approx. 40 lbs) of Haralson and SweeTango  2nds\, for just $40!!
X-ALT-DESC;FMTTYPE=text/html:<p style="margin: 0px\; padding: 0px\; color: rgb(102\, 102\, 102)\; font-family: Roboto\, &quot\;Lucida Grande&quot\;\, arial\, sans-serif\; font-size: 14px\; text-align: justify\;">It&#39\;s our last three days of the 2020 season! Plan to stock up on your favorite apples\, bakery and treats!</p>\n\n<p style="margin: 0px\; padding: 0px\; color: rgb(102\, 102\, 102)\; font-family: Roboto\, &quot\;Lucida Grande&quot\;\, arial\, sans-serif\; font-size: 14px\;">&nbsp\;</p>\n\n<p style="margin: 0px\; padding: 0px\; color: rgb(102\, 102\, 102)\; font-family: Roboto\, &quot\;Lucida Grande&quot\;\, arial\, sans-serif\; font-size: 14px\; text-align: justify\;">We&#39\;ve got specials throughout the store on many items. And if you haven&#39\;t explored our fun and unique Christmas gifts\, now&#39\;s the perfect time!</p>\n\n<p style="margin: 0px\; padding: 0px\; color: rgb(102\, 102\, 102)\; font-family: Roboto\, &quot\;Lucida Grande&quot\;\, arial\, sans-serif\; font-size: 14px\;">&nbsp\;</p>\n\n<p style="margin: 0px\; padding: 0px\; color: rgb(102\, 102\, 102)\; font-family: Roboto\, &quot\;Lucida Grande&quot\;\, arial\, sans-serif\; font-size: 14px\; text-align: justify\;">The weather forecast looks great\, so take a few minutes to walk the nature trail and enjoy the quiet of the orchard pre-winter season.</p>\n\n<p style="margin: 0px\; padding: 0px\; color: rgb(102\, 102\, 102)\; font-family: Roboto\, &quot\;Lucida Grande&quot\;\, arial\, sans-serif\; font-size: 14px\;">&nbsp\;</p>\n\n<p style="margin: 0px\; padding: 0px\; color: rgb(102\, 102\, 102)\; font-family: Roboto\, &quot\;Lucida Grande&quot\;\, arial\, sans-serif\; font-size: 14px\; text-align: justify\;">Apples available: Honeycrisp\, SweeTango&trade\;\, Haralson\, Fireside\, Honeygold\, and Keepsake!</p>\n\n<p style="margin: 0px\; padding: 0px\; color: rgb(102\, 102\, 102)\; font-family: Roboto\, &quot\;Lucida Grande&quot\;\, arial\, sans-serif\; font-size: 14px\;">&nbsp\;</p>\n\n<p style="margin: 0px\; padding: 0px\; color: rgb(102\, 102\, 102)\; font-family: Roboto\, &quot\;Lucida Grande&quot\;\, arial\, sans-serif\; font-size: 14px\; text-align: justify\;">Get a bushel (approx. 40 lbs) of Haralson and SweeTango&trade\; 2nds\, for just $40!!</p>\n
LOCATION:17325 Pleasant Valley Road\, Shafer PleasantValleyOrchard.com
UID:e.3575.335
SEQUENCE:3
DTSTAMP:20260424T024758Z
URL:https://business.chisagolakeschamber.com/events/details/pleasant-valley-orchard-christmas-sale-335
END:VEVENT

END:VCALENDAR
