BEGIN:VCALENDAR
VERSION:2.0
PRODID:-//ChamberMaster//Event Calendar 2.0//EN
METHOD:PUBLISH
X-PUBLISHED-TTL:P3D
REFRESH-INTERVAL:P3D
CALSCALE:GREGORIAN
BEGIN:VEVENT
DTSTART:20230715T150000Z
DTEND:20230716T220000Z
X-MICROSOFT-CDO-ALLDAYEVENT:FALSE
SUMMARY:Raspberries and Wine Festival at Winehaven!
DESCRIPTION:Celebrate summer at Winehaven with live music\, new wines\, new flavors of wine slushies and lunch at the vineyard! Two amazing food trucks will be on-hand from our friends at The Grandstand and Divine Swine!  Plus\, you can 'Sip and Shop' wonderful clothing\, jewelry and craft vendors including:\n\n\n\nLulaRoe - Women's Clothing\n\nThirtyOne - Women's Clothing and Accessories\n\nBig Mood Boutique - Women's Clothing\n\nWild River Designs - Jewelry\n\nTrades of Hope - Clothing\, Handbags and Crafts\n\nEmi and Rae Boutique - Women's Clothing\n\nOrigami Owl - Jewelry\n\nDaniMae Boutique - Women's Clothing\n\nIn the Moment Boutique - Women's Clothing\n\n\n\nSweetbriar Carriage Company will be offering carriage rides throughout our 50 acre estate Saturday and Sunday afternoon.  We will also be releasing our new batch of Raspberry wine and the new Raspberry Wine Slushie that will be featured at this year's Minnesota State Fair! There is no admission fee and reservations are not required. Bring your friends!
X-ALT-DESC;FMTTYPE=text/html:<span style="font-size:16px\;"><span style="font-family:arial\;">Celebrate summer at Winehaven with live music\, new wines\, new flavors of wine slushies and lunch at the vineyard! Two amazing food trucks will be on-hand from our friends at The Grandstand&nbsp\;and Divine Swine!&nbsp\; Plus\, you can &#39\;Sip and Shop&#39\; wonderful clothing\, jewelry and craft vendors including:<br style="color: rgb(138\, 138\, 138)\; font-family: Karla\, sans-serif\; font-size: 18px\; background-color: rgb(242\, 239\, 237)\;" />\n<br style="color: rgb(138\, 138\, 138)\; font-family: Karla\, sans-serif\; font-size: 18px\; background-color: rgb(242\, 239\, 237)\;" />\nLulaRoe - Women&#39\;s Clothing<br style="color: rgb(138\, 138\, 138)\; font-family: Karla\, sans-serif\; font-size: 18px\; background-color: rgb(242\, 239\, 237)\;" />\nThirtyOne - Women&#39\;s Clothing and Accessories<br style="color: rgb(138\, 138\, 138)\; font-family: Karla\, sans-serif\; font-size: 18px\; background-color: rgb(242\, 239\, 237)\;" />\nBig Mood Boutique - Women&#39\;s Clothing<br style="color: rgb(138\, 138\, 138)\; font-family: Karla\, sans-serif\; font-size: 18px\; background-color: rgb(242\, 239\, 237)\;" />\nWild River Designs - Jewelry<br style="color: rgb(138\, 138\, 138)\; font-family: Karla\, sans-serif\; font-size: 18px\; background-color: rgb(242\, 239\, 237)\;" />\nTrades of Hope - Clothing\, Handbags and Crafts<br style="color: rgb(138\, 138\, 138)\; font-family: Karla\, sans-serif\; font-size: 18px\; background-color: rgb(242\, 239\, 237)\;" />\nEmi and Rae Boutique - Women&#39\;s Clothing<br style="color: rgb(138\, 138\, 138)\; font-family: Karla\, sans-serif\; font-size: 18px\; background-color: rgb(242\, 239\, 237)\;" />\nOrigami Owl - Jewelry<br style="color: rgb(138\, 138\, 138)\; font-family: Karla\, sans-serif\; font-size: 18px\; background-color: rgb(242\, 239\, 237)\;" />\nDaniMae Boutique - Women&#39\;s Clothing<br style="color: rgb(138\, 138\, 138)\; font-family: Karla\, sans-serif\; font-size: 18px\; background-color: rgb(242\, 239\, 237)\;" />\nIn the Moment Boutique - Women&#39\;s Clothing<br style="color: rgb(138\, 138\, 138)\; font-family: Karla\, sans-serif\; font-size: 18px\; background-color: rgb(242\, 239\, 237)\;" />\n<br style="color: rgb(138\, 138\, 138)\; font-family: Karla\, sans-serif\; font-size: 18px\; background-color: rgb(242\, 239\, 237)\;" />\nSweetbriar Carriage Company will be offering carriage rides throughout our 50 acre estate Saturday and Sunday afternoon.&nbsp\; We will also be releasing our new batch of Raspberry wine and the new Raspberry Wine Slushie that will be featured at this year&#39\;s Minnesota State Fair! There is no admission fee and reservations are not required. Bring your friends!</span></span>
LOCATION:Winehaven Winery 10020 Deer Garden Lane Chisago City\, MN 55013
UID:e.3575.5490
SEQUENCE:3
DTSTAMP:20260422T120051Z
URL:https://business.chisagolakeschamber.com/events/details/raspberries-and-wine-festival-at-winehaven-5490
END:VEVENT

END:VCALENDAR
