BEGIN:VCALENDAR
VERSION:2.0
PRODID:-//ChamberMaster//Event Calendar 2.0//EN
METHOD:PUBLISH
X-PUBLISHED-TTL:P3D
REFRESH-INTERVAL:P3D
CALSCALE:GREGORIAN
BEGIN:VEVENT
DTSTART:20210724T170000Z
DTEND:20210725T000000Z
X-MICROSOFT-CDO-ALLDAYEVENT:FALSE
SUMMARY:Rebel Lobster and Original Hockey Mom Brownies Food Trucks @ Uncommon Loon
DESCRIPTION:FIRST EVER VISIT TO UNCOMMON LOON BREWING CO.   What ... What??\n\n \n\nOHMB will have a robust selection of their designer brownies including some delicious GF options.\n\n\n\nMENU FOR REBEL LOBSTER includes several Lobster Roll styles - come check it out! \n\nNote from RL:  We offer "Gluten-Free" bread that can be used to make an open-faced 'roll'...HOWEVER....no matter how hard we try\, the truck is a HIGH-GLUTEN environment with shared cooking surfaces\, so the chance of cross-contact is about 100%.\n\n**Credit Cards Accepted w/ 3% fee**
X-ALT-DESC;FMTTYPE=text/html:<div>FIRST EVER VISIT TO UNCOMMON LOON BREWING CO.&nbsp\; &nbsp\;What ... What??<br />\n&nbsp\;</div>\n\n<div>OHMB will have a robust selection of their designer brownies&mdash\;including some delicious GF options.</div>\n\n<div><br />\nMENU FOR REBEL LOBSTER includes several Lobster Roll styles - come check it out!&nbsp\;</div>\n\n<div>Note from RL:&nbsp\; We offer &quot\;Gluten-Free&quot\; bread that can be used to make an open-faced &#39\;roll&#39\;...HOWEVER....no matter how hard we try\, the truck is a HIGH-GLUTEN environment with shared cooking surfaces\, so the chance of cross-contact is about 100%.<br />\n**Credit Cards Accepted w/ 3% fee**</div>\n
LOCATION:Uncommon Loon Brewing Company
UID:e.3575.1692
SEQUENCE:3
DTSTAMP:20260421T095046Z
URL:https://business.chisagolakeschamber.com/events/details/rebel-lobster-and-original-hockey-mom-brownies-food-trucks-uncommon-loon-1692
END:VEVENT

END:VCALENDAR
