BEGIN:VCALENDAR
VERSION:2.0
PRODID:-//ChamberMaster//Event Calendar 2.0//EN
METHOD:PUBLISH
X-PUBLISHED-TTL:P3D
REFRESH-INTERVAL:P3D
CALSCALE:GREGORIAN
BEGIN:VEVENT
DTSTART:20250810T200000Z
DTEND:20250810T230000Z
X-MICROSOFT-CDO-ALLDAYEVENT:FALSE
SUMMARY:Rise Summer Celebration Picnic
DESCRIPTION:Celebrate Rise's anniversary with the people served by Rise\, their families\, and our staff for fun in the park with games\, delicious food\, and music by DJ John Thorp! Event is free to attend. Donations will be requested. RSVP's encouraged not required. RSVP with full names of attendees and contact email to info@rise.org or 763-786-8334
X-ALT-DESC;FMTTYPE=text/html:Celebrate Rise&rsquo\;s anniversary with the people served by Rise\, their families\, and our staff for fun in the park with games\, delicious food\, and music by DJ John Thorp! Event is free to attend. Donations will be requested. RSVP&rsquo\;s encouraged not required. RSVP with full names of attendees and contact email to info@rise.org or 763-786-8334
LOCATION:Aquatore Park 9191 Lincoln St. NE\, Blaine\, MN 55434
UID:e.3575.8230
SEQUENCE:3
DTSTAMP:20260422T051033Z
URL:https://business.chisagolakeschamber.com/events/details/rise-summer-celebration-picnic-8230
END:VEVENT

END:VCALENDAR
