BEGIN:VCALENDAR
VERSION:2.0
PRODID:-//ChamberMaster//Event Calendar 2.0//EN
METHOD:PUBLISH
X-PUBLISHED-TTL:P3D
REFRESH-INTERVAL:P3D
CALSCALE:GREGORIAN
BEGIN:VEVENT
DTSTART:20200112T190000Z
DTEND:20200112T210000Z
X-MICROSOFT-CDO-ALLDAYEVENT:FALSE
SUMMARY:Rolled Beeswax Candlemaking at Winehaven
DESCRIPTION:Join us for a fun afternoon of DIY rolled beeswax candlemaking! Cost is $35.00/person and includes 8+ of your own candles to take home. Pre-registration is required by signing up online Here. Take-home kits will also be available in class for additional projects.
X-ALT-DESC;FMTTYPE=text/html:<span style="font-family:arial\,sans-serif\;"><span style="font-size:11.5pt\;">Join us for a fun afternoon of DIY rolled beeswax candlemaking! Cost is $35.00/person and includes 8+ of your own candles to take home. Pre-registration is required by signing up online&nbsp\;</span></span><a data-id="l-5232115003" href="https://www.cleanhavennaturals.com/products/rolled-beeswax-candlemaking-workshop" style="cursor:pointer\;font-variant-ligatures:normal\;font-variant-caps:normal\;orphans:2\;widows:2\;-webkit-text-stroke-width:0px\;word-spacing:0px\;" target="_blank"><span style="color:windowtext\;"><span style="font-family:arial\,sans-serif\;"><span style="font-size:11.5pt\;">Here</span></span></span></a><span style="font-family:arial\,sans-serif\;"><span style="font-size:11.5pt\;"><span style="font-variant-ligatures:normal\;font-variant-caps:normal\;orphans:2\;widows:2\;-webkit-text-stroke-width:0px\;text-decoration-style:initial\;float:none\;word-spacing:0px\;">. Take-home kits will also be available in class for additional projects.</span></span></span>
LOCATION:Winehaven 10020 Deer Garden Lane\, Chisago City
UID:e.3575.10
SEQUENCE:3
DTSTAMP:20260424T162614Z
URL:https://business.chisagolakeschamber.com/events/details/rolled-beeswax-candlemaking-at-winehaven-10
END:VEVENT

END:VCALENDAR
