BEGIN:VCALENDAR
VERSION:2.0
PRODID:-//ChamberMaster//Event Calendar 2.0//EN
METHOD:PUBLISH
X-PUBLISHED-TTL:P3D
REFRESH-INTERVAL:P3D
CALSCALE:GREGORIAN
BEGIN:VEVENT
DTSTART:20221210T150000Z
DTEND:20221210T180000Z
X-MICROSOFT-CDO-ALLDAYEVENT:FALSE
SUMMARY:Sankta Lucia Pageant
DESCRIPTION:Sankta Lucia Pageant will be at Chisago Lake Lutheran Church in Center City on Saturday\, December 10\, 2022.\n\n\n\nSeating and "goodies" start at 8:30 am in the church Fellowship Hall.\n\n\n\nBoys & Girls ages 3 to college age needed for this day. If you are interested in being part of this Festival of Lights\, please contact Chris at 651-257-4629. ~God Jul~
X-ALT-DESC;FMTTYPE=text/html:Sankta Lucia Pageant will be at Chisago Lake Lutheran Church in Center City on Saturday\, December 10\, 2022.<br />\n<br />\nSeating and &quot\;goodies&quot\; start at 8:30 am in the church Fellowship Hall.<br />\n<br />\nBoys &amp\; Girls ages 3 to college age needed for this day. If you are interested in being part of this Festival of Lights\, please contact Chris at 651-257-4629. ~God Jul~
LOCATION:Chisago Lake Lutheran Church - Fellowship Hall (2nd level) 1 Summit Avenue Center City\, MN 55012
UID:e.3575.5315
SEQUENCE:3
DTSTAMP:20260422T185853Z
URL:https://business.chisagolakeschamber.com/events/details/sankta-lucia-pageant-5315
END:VEVENT

END:VCALENDAR
