BEGIN:VCALENDAR
VERSION:2.0
PRODID:-//ChamberMaster//Event Calendar 2.0//EN
METHOD:PUBLISH
X-PUBLISHED-TTL:P3D
REFRESH-INTERVAL:P3D
CALSCALE:GREGORIAN
BEGIN:VEVENT
DTSTART:20220323T150000Z
DTEND:20220323T200000Z
X-MICROSOFT-CDO-ALLDAYEVENT:FALSE
SUMMARY:SBDC Open House
DESCRIPTION:Looking to start or grow a business? Join us at our open house to learn more about resources that could help your business ideas and dreams thrive. We will have short presentations at 11am\, Noon and 1pm along with food\, prizes and giveaways! For more information visit our website and scroll down to the "Events and Trainings" tab.
X-ALT-DESC;FMTTYPE=text/html:Looking to start or grow a business? Join us at our open house to learn more about resources that could help your business ideas and dreams thrive. We will have short presentations at 11am\, Noon and 1pm along with food\, prizes and giveaways! For more information visit our website and scroll down to the &quot\;Events and Trainings&quot\; tab.
LOCATION:HRA-EDA Office 38871 7th Ave North Branch\, MN 55056
UID:e.3575.3207
SEQUENCE:3
DTSTAMP:20260421T093345Z
URL:https://business.chisagolakeschamber.com/events/details/sbdc-open-house-3207
END:VEVENT

END:VCALENDAR
