BEGIN:VCALENDAR
VERSION:2.0
PRODID:-//ChamberMaster//Event Calendar 2.0//EN
METHOD:PUBLISH
X-PUBLISHED-TTL:P3D
REFRESH-INTERVAL:P3D
CALSCALE:GREGORIAN
BEGIN:VEVENT
DTSTART:20220514T160000Z
DTEND:20220514T220000Z
X-MICROSOFT-CDO-ALLDAYEVENT:FALSE
SUMMARY:Shopping at The Loon - Indoor Market
DESCRIPTION:The Loon Event Center will become an Indoor Market offering a variety of items that include custom crafts such as wood creations\, custom artwork\, home d cor\, women and children's apparel\, jewelry\, homemade soap\, custom tumblers\, essential oils\, health and beauty\, greeting cards\, books\, spice mixes\, food\, cleaning supplies and so much more!! \n\n\n\nThe Loon will also have several merch sales and Chub Hub Food Truck will be serving their awesome egg rolls.  The taproom will be opening early so come on out and enjoy a craft beer or hard seltzer from our taproom while shopping!
X-ALT-DESC;FMTTYPE=text/html:<span style="color:rgb(5\, 5\, 5)\; font-family:segoe ui historic\,segoe ui\,helvetica\,arial\,sans-serif\; font-size:15px">The Loon Event Center will become an Indoor Market offering a variety of items&nbsp\;that include custom crafts such as wood creations\, custom artwork\, home d&eacute\;cor\, women and children&#39\;s apparel\, jewelry\, homemade soap\, custom tumblers\, essential oils\, health and beauty\, greeting cards\, books\, spice mixes\, food\, cleaning supplies and so much more!!&nbsp\;<br />\n<br />\nThe Loon will also have several merch sales and Chub Hub Food Truck will be serving their awesome egg rolls.&nbsp\; The taproom will be opening early so come on out and enjoy a craft beer or hard seltzer from our taproom while shopping!</span>
LOCATION:Uncommon Loon Brewing Co.
UID:e.3575.3407
SEQUENCE:3
DTSTAMP:20260421T120231Z
URL:https://business.chisagolakeschamber.com/events/details/shopping-at-the-loon-indoor-market-05-14-2022-3407
END:VEVENT

END:VCALENDAR
