BEGIN:VCALENDAR
VERSION:2.0
PRODID:-//ChamberMaster//Event Calendar 2.0//EN
METHOD:PUBLISH
X-PUBLISHED-TTL:P3D
REFRESH-INTERVAL:P3D
CALSCALE:GREGORIAN
BEGIN:VEVENT
DTSTART:20221126T170000Z
DTEND:20221126T230000Z
X-MICROSOFT-CDO-ALLDAYEVENT:FALSE
SUMMARY:Shopping at The Loon - Indoor Market
DESCRIPTION:The Loon Event Center will once again become an Indoor Market on Small Business Saturday (Nov 26).  You will find vendors selling a wide variety of items that include custom woodworking\, farmhouse d cor\, photography\, painting\, pottery\, clothing\, jewelry\, custom kitchen towels\, goat milk soaps & lotions\, wooden bowls & other creations\, baskets\, painted saw blades\, ornaments\, books\, spice mix creations\, sweat treats including freeze dried candy\, pies and more.  Even our local Chisago Lakes High School Manufacturing Team will be selling their beautifully crafted items.\n\n\n\nGrab your friends and family and come on out\, you won't want to miss it\, 1 day only!  This will be a great time to start your Christmas shopping and find that one of a kind gift item. Uncommon Loon offers a variety of craft beers and flavored seltzers that you can enjoy while you shop!!  Deutschland Meats will also be onsite selling food inside.\n\n\n\nWe look forward to seeing you on Small Business Saturday\, come and support these small business.
X-ALT-DESC;FMTTYPE=text/html:<div>The Loon Event Center will once again become an Indoor Market on Small Business Saturday (Nov 26).&nbsp\; You will find vendors selling a wide variety of items that include custom woodworking\, farmhouse d&eacute\;cor\, photography\, painting\, pottery\, clothing\, jewelry\, custom kitchen towels\, goat milk soaps &amp\; lotions\, wooden bowls &amp\; other creations\, baskets\, painted saw blades\, ornaments\, books\, spice mix creations\, sweat treats including freeze dried candy\, pies and more.&nbsp\; Even our local Chisago Lakes High School Manufacturing Team will be selling their beautifully crafted items.</div>\n\n<div><br />\nGrab your friends and family and come on out\, you won&#39\;t want to miss it\, 1 day only!&nbsp\; This will be a great time to start your Christmas shopping and find that one of a kind gift item. Uncommon Loon offers a variety of craft beers and flavored seltzers that you can enjoy while you shop!!&nbsp\; Deutschland Meats will also be onsite selling food inside.<br />\n<br />\nWe look forward to seeing you on Small Business Saturday\, come and support these small business.</div>\n
LOCATION:Uncommon Loon Brewing Co.
UID:e.3575.5116
SEQUENCE:3
DTSTAMP:20260422T232630Z
URL:https://business.chisagolakeschamber.com/events/details/shopping-at-the-loon-indoor-market-11-26-2022-5116
END:VEVENT

END:VCALENDAR
