BEGIN:VCALENDAR
VERSION:2.0
PRODID:-//ChamberMaster//Event Calendar 2.0//EN
METHOD:PUBLISH
X-PUBLISHED-TTL:P3D
REFRESH-INTERVAL:P3D
CALSCALE:GREGORIAN
BEGIN:VEVENT
DTSTART;VALUE=DATE:20220409
DTEND;VALUE=DATE:20220410
TRANSP:TRANSPARENT
X-MICROSOFT-CDO-ALLDAYEVENT:TRUE
SUMMARY:SING! Choral Festival
DESCRIPTION:Unexpected Company Chorale Proudly Presents: SING! Choral Festival featuring Rush City High School Concert Choir\, Forest Lake Area High School Cantorei and Unexpected Company Chorale
X-ALT-DESC;FMTTYPE=text/html:Unexpected Company Chorale Proudly Presents: SING! Choral Festival featuring Rush City High School Concert Choir\, Forest Lake Area High School Cantorei and Unexpected Company Chorale
LOCATION:Lent Township Hall 33155 Hemingway Ave Stacy\, MN
UID:e.3575.3250
SEQUENCE:3
DTSTAMP:20260421T115829Z
URL:https://business.chisagolakeschamber.com/events/details/sing-choral-festival-3250
END:VEVENT

END:VCALENDAR
