BEGIN:VCALENDAR
VERSION:2.0
PRODID:-//ChamberMaster//Event Calendar 2.0//EN
METHOD:PUBLISH
X-PUBLISHED-TTL:P3D
REFRESH-INTERVAL:P3D
CALSCALE:GREGORIAN
BEGIN:VEVENT
DTSTART;VALUE=DATE:20221126
DTEND;VALUE=DATE:20221127
TRANSP:TRANSPARENT
X-MICROSOFT-CDO-ALLDAYEVENT:TRUE
SUMMARY:Small Business Saturday
DESCRIPTION:Shop Small Saturday is Saturday\, November 26th!!!
X-ALT-DESC;FMTTYPE=text/html:Shop Small Saturday is Saturday\, November 26th!!!
LOCATION:Support your local businesses and restaurants in the Chisago Lakes area.
UID:e.3575.5334
SEQUENCE:3
DTSTAMP:20260422T201626Z
URL:https://business.chisagolakeschamber.com/events/details/small-business-saturday-5334
END:VEVENT

END:VCALENDAR
