BEGIN:VCALENDAR
VERSION:2.0
PRODID:-//ChamberMaster//Event Calendar 2.0//EN
METHOD:PUBLISH
X-PUBLISHED-TTL:P3D
REFRESH-INTERVAL:P3D
CALSCALE:GREGORIAN
BEGIN:VEVENT
DTSTART:20250819T230000Z
DTEND:20250820T000000Z
X-MICROSOFT-CDO-ALLDAYEVENT:FALSE
SUMMARY:SOUNDBATH MEDITATION
DESCRIPTION:Do something good for you! Our Soundbath Meditation is the ultimate in Relaxation. Just like any wellness practice\, consistency is key for getting the most out of your efforts. Join us for a three-part series of soundbath with light breathwork and guided meditation. During each session\, we'll do some centering breathwork and enjoy a relaxing\, healing soundbath with light guided meditation. .\n\nDress in comfortable\, loose clothing and bring a yoga mat or blanket\, as we will lie on the floor for the soundbath. Feel free to bring a light blanket to cover up\, pillow and eye mask\, if you like   whatever makes you comfortable and relaxed.\n\nFee: $28 Per Person\n\nWhen: Tuesday\, May 20th\n\nTime: 6-7pm\n\nWhere: Chisago Lakes High School\n\n29400 Olinda Trail\n\nLindstrom\, MN 55045\n\nCLICK HERE TO REGISTER:\n\nhttps://isd2144.ce.eleyo.com/course/2941/summer-2025%E2%80%942/sound-and-meditation-healing-series?vc=true&no_main_container=true\n\nQUESTIONS? Feel free to reach out to us @ 651-257-9713
X-ALT-DESC;FMTTYPE=text/html:<p>Do something good for you! Our Soundbath Meditation is the ultimate in Relaxation. Just like any wellness practice\, consistency is key for getting the most out of your efforts. Join us for a three-part series of soundbath with light breathwork and guided meditation. During each session\, we&rsquo\;ll do some centering breathwork and enjoy a relaxing\, healing soundbath with light guided meditation. .</p>\n\n<p>Dress in comfortable\, loose clothing and bring a yoga mat or blanket\, as we will lie on the floor for the soundbath. Feel free to bring a light blanket to cover up\, pillow and eye mask\, if you like &ndash\; whatever makes you comfortable and relaxed.</p>\n\n<p>Fee: $28 Per Person</p>\n\n<p>When: Tuesday\, May 20th</p>\n\n<p>Time: 6-7pm</p>\n\n<p>Where: Chisago Lakes High School</p>\n\n<p>29400 Olinda Trail</p>\n\n<p>Lindstrom\, MN 55045<br />\nCLICK HERE TO REGISTER:</p>\n\n<p><a href="https://isd2144.ce.eleyo.com/course/2941/summer-2025%E2%80%942/sound-and-meditation-healing-series?vc=true&amp\;no_main_container=true" style="background-image: none\; background-position: 0px 0px\; background-size: auto\; background-repeat: repeat\; background-attachment: scroll\; background-origin: padding-box\; background-clip: border-box\; cursor: pointer\; color: rgb(0\, 0\, 0)\; text-decoration: none\;">https://isd2144.ce.eleyo.com/course/2941/summer-2025%E2%80%942/sound-and-meditation-healing-series?vc=true&amp\;no_main_container=true</a></p>\n\n<p>QUESTIONS? Feel free to reach out to us @ 651-257-9713</p>\n
LOCATION:CHISAGO LAKES HIGH SCHOOL 29400 OLINDA TRAIL LINDSTROM\, MN 55045
UID:e.3575.8226
SEQUENCE:3
DTSTAMP:20260422T051253Z
URL:https://business.chisagolakeschamber.com/events/details/soundbath-meditation-08-19-2025-8226
END:VEVENT

END:VCALENDAR
