BEGIN:VCALENDAR
VERSION:2.0
PRODID:-//ChamberMaster//Event Calendar 2.0//EN
METHOD:PUBLISH
X-PUBLISHED-TTL:P3D
REFRESH-INTERVAL:P3D
CALSCALE:GREGORIAN
BEGIN:VEVENT
DTSTART:20200215T223000Z
DTEND:20200215T223000Z
X-MICROSOFT-CDO-ALLDAYEVENT:FALSE
SUMMARY:Spaghetti Dinner Fund Raiser
DESCRIPTION:During 'Celebration of The Lakes'\, come in from the cold and warm your belly with some delicious spaghetti\, garlic bread\, salad and desserts! Free will offering. (Suggested donation of $5 Adults and $20 per Family.) Proceeds will assist CLLC Youth going on summer mission trips\, Bible camps\, and church-sponsored activities. Contact: 651-257-6300.
X-ALT-DESC;FMTTYPE=text/html:<span style="color: rgb(0\, 0\, 0)\; font-family: Roboto\, &quot\;Lucida Grande&quot\;\, arial\, sans-serif\; font-size: 14px\;">During &#39\;Celebration of The Lakes&#39\;\, come in from the cold and warm your belly with some delicious spaghetti\, garlic bread\, salad and desserts! Free will offering. (Suggested donation of $5 Adults and $20 per Family.) Proceeds will assist CLLC Youth going on summer mission trips\, Bible camps\, and church-sponsored activities. Contact: 651-257-6300.</span>
LOCATION:Chisago Lake Lutheran Church 1 Summit Ave Center City\, MN 55012 651-257-6300
UID:e.3575.189
SEQUENCE:3
DTSTAMP:20260424T145854Z
URL:https://business.chisagolakeschamber.com/events/details/spaghetti-dinner-fund-raiser-189
END:VEVENT

END:VCALENDAR
