BEGIN:VCALENDAR
VERSION:2.0
PRODID:-//ChamberMaster//Event Calendar 2.0//EN
METHOD:PUBLISH
X-PUBLISHED-TTL:P3D
REFRESH-INTERVAL:P3D
CALSCALE:GREGORIAN
BEGIN:VEVENT
DTSTART:20251017T160000Z
DTEND:20251017T180000Z
X-MICROSOFT-CDO-ALLDAYEVENT:FALSE
SUMMARY:Spooky Storytime At Pleasant Valley Orchard
DESCRIPTION:Join Twinflower Books at Pleasant Valley Orchard's 12 Days of Halloween on Friday\, October 18th for a Spooky Storytime\n\nStory times are at 11am and 1230pm.\n\n\n\nJoin us as we celebrate 12 Days of Halloween with Pleasant Valley Orchard!
X-ALT-DESC;FMTTYPE=text/html:Join Twinflower Books at Pleasant Valley Orchard&#39\;s 12 Days of Halloween on Friday\, October 18th for a Spooky Storytime<br />\n<strong>Story times are at 11am and 1230pm.</strong><br />\n<br />\nJoin us as we celebrate 12 Days of Halloween with Pleasant Valley Orchard!<br />\n<br />\n<br />\n&nbsp\;
LOCATION:
UID:e.3575.8232
SEQUENCE:3
DTSTAMP:20260422T063936Z
URL:https://business.chisagolakeschamber.com/events/details/spooky-storytime-at-pleasant-valley-orchard-8232
END:VEVENT

END:VCALENDAR
