BEGIN:VCALENDAR
VERSION:2.0
PRODID:-//ChamberMaster//Event Calendar 2.0//EN
METHOD:PUBLISH
X-PUBLISHED-TTL:P3D
REFRESH-INTERVAL:P3D
CALSCALE:GREGORIAN
BEGIN:VEVENT
DTSTART:20220423T140000Z
DTEND:20220423T170000Z
X-MICROSOFT-CDO-ALLDAYEVENT:FALSE
SUMMARY:Spring Road Clean Up
DESCRIPTION:Join folks at Pleasant Valley Orchard for a spring cleanup of Pleasant Valley Road. They are looking for 12-20 people for a morning of cleanup on their road. You can expect coffee and bakery before you begin and a hot lunch served at the end. RSVP by calling or texting to 651-257-9159. Thank you!
X-ALT-DESC;FMTTYPE=text/html:Join folks at Pleasant Valley Orchard for a spring cleanup of Pleasant Valley Road. They are looking for 12-20 people for a morning of cleanup on their road. You can expect coffee and bakery before you begin and a hot lunch served at the end. RSVP by calling or texting to 651-257-9159. Thank you!
LOCATION:Pleasant Valley Orchard 17325 Pleasant Valley Road Shafer\, MN 55074
UID:e.3575.3409
SEQUENCE:3
DTSTAMP:20260421T105818Z
URL:https://business.chisagolakeschamber.com/events/details/spring-road-clean-up-3409
END:VEVENT

END:VCALENDAR
