BEGIN:VCALENDAR
VERSION:2.0
PRODID:-//ChamberMaster//Event Calendar 2.0//EN
METHOD:PUBLISH
X-PUBLISHED-TTL:P3D
REFRESH-INTERVAL:P3D
CALSCALE:GREGORIAN
BEGIN:VEVENT
DTSTART:20220520T000000Z
DTEND:20220520T020000Z
X-MICROSOFT-CDO-ALLDAYEVENT:FALSE
SUMMARY:St. Bridget's Summer Concert Series
DESCRIPTION:St. Bridget's is hosting a Summer Concert Series open to all! Come enjoy music from great local talent this summer!
X-ALT-DESC;FMTTYPE=text/html:St. Bridget&#39\;s is hosting a Summer Concert Series open to all! Come enjoy music from great local talent this summer!
LOCATION:St. Bridget of Sweden Catholic Church 13060 Lake Boulevard Lindstrom\, MN 55045
UID:e.3575.3855
SEQUENCE:3
DTSTAMP:20260421T115723Z
URL:https://business.chisagolakeschamber.com/events/details/st-bridget-s-summer-concert-series-3855
END:VEVENT

END:VCALENDAR
