BEGIN:VCALENDAR
VERSION:2.0
PRODID:-//ChamberMaster//Event Calendar 2.0//EN
METHOD:PUBLISH
X-PUBLISHED-TTL:P3D
REFRESH-INTERVAL:P3D
CALSCALE:GREGORIAN
BEGIN:VEVENT
DTSTART:20230923T160000Z
DTEND:20230923T210000Z
X-MICROSOFT-CDO-ALLDAYEVENT:FALSE
SUMMARY:St Croix Valley Local Authors Event
DESCRIPTION:Join Twin Flower Books at Pleasant Valley Orchard for book readings and Q&A sessions with local Minnesota authors from the St. Croix Valley area!\n\nBrowse the author tables\, purchase books\, or bring your own copies to be signed by the authors. \n\n \n\nPleasant Valley Orchard is located at 17325 Pleasant Valley Road\, Shafer\, MN 55074. This event is open to the public and no registration is required\, just come on out and have fun!
X-ALT-DESC;FMTTYPE=text/html:<div>Join Twin Flower Books at&nbsp\;Pleasant Valley Orchard for book readings and Q&amp\;A sessions with local Minnesota authors from the St. Croix Valley area!</div>\n\n<div>Browse the author tables\, purchase books\, or bring your own copies to be signed by the authors.&nbsp\;<br />\n&nbsp\;</div>\n\n<div>Pleasant Valley Orchard is located at 17325 Pleasant Valley Road\, Shafer\, MN 55074. This event is open to the public and no registration is required\, just come on out and have fun!<br />\n&nbsp\;</div>\n
LOCATION:Pleasant Valley Orchard\, 17325 Pleasant Valley Rd.\, Shafer\, MN 55074
UID:e.3575.6144
SEQUENCE:3
DTSTAMP:20260422T092914Z
URL:https://business.chisagolakeschamber.com/events/details/st-croix-valley-local-authors-event-6144
END:VEVENT

END:VCALENDAR
