BEGIN:VCALENDAR
VERSION:2.0
PRODID:-//ChamberMaster//Event Calendar 2.0//EN
METHOD:PUBLISH
X-PUBLISHED-TTL:P3D
REFRESH-INTERVAL:P3D
CALSCALE:GREGORIAN
BEGIN:VEVENT
DTSTART;VALUE=DATE:20220506
DTEND;VALUE=DATE:20220509
TRANSP:TRANSPARENT
X-MICROSOFT-CDO-ALLDAYEVENT:TRUE
SUMMARY:St. Croix Valley Pottery Tour
DESCRIPTION:The 30th Annual St. Croix Valley Pottery Tour and Sale will welcome visitors on May 6\, 7 & 8\, 2022 to seven pottery studios. Sixty-six potters from eighteen states and two from England will present thousands of pots for sale amid the hospitality of local potters in their rural studios.
X-ALT-DESC;FMTTYPE=text/html:The 30th Annual St. Croix Valley Pottery Tour and Sale will welcome visitors on May 6\, 7 &amp\; 8\, 2022 to seven pottery studios. Sixty-six potters from eighteen states and two from England will present thousands of pots for sale amid the hospitality of local potters in their rural studios.
LOCATION:For more information\, visit http://minnesotapotters.com
UID:e.3575.3217
SEQUENCE:3
DTSTAMP:20260421T115614Z
URL:https://business.chisagolakeschamber.com/events/details/st-croix-valley-pottery-tour-3217
END:VEVENT

END:VCALENDAR
