BEGIN:VCALENDAR
VERSION:2.0
PRODID:-//ChamberMaster//Event Calendar 2.0//EN
METHOD:PUBLISH
X-PUBLISHED-TTL:P3D
REFRESH-INTERVAL:P3D
CALSCALE:GREGORIAN
BEGIN:VEVENT
DTSTART;VALUE=DATE:20220401
DTEND;VALUE=DATE:20220404
TRANSP:TRANSPARENT
X-MICROSOFT-CDO-ALLDAYEVENT:TRUE
SUMMARY:Steel Magnolias Live Performance at the Uncommon Loon
DESCRIPTION:Live performance of the beloved southern comedy/drama.
X-ALT-DESC;FMTTYPE=text/html:Live performance of the beloved southern comedy/drama.
LOCATION:Uncommon Loon 10825 Lake Blvd Chisago City\, MN 55013
UID:e.3575.3220
SEQUENCE:3
DTSTAMP:20260421T110312Z
URL:https://business.chisagolakeschamber.com/events/details/steel-magnolias-live-performance-at-the-uncommon-loon-3220
END:VEVENT

END:VCALENDAR
