BEGIN:VCALENDAR
VERSION:2.0
PRODID:-//ChamberMaster//Event Calendar 2.0//EN
METHOD:PUBLISH
X-PUBLISHED-TTL:P3D
REFRESH-INTERVAL:P3D
CALSCALE:GREGORIAN
BEGIN:VEVENT
DTSTART:20200223T190000Z
DTEND:20200223T230000Z
X-MICROSOFT-CDO-ALLDAYEVENT:FALSE
SUMMARY:Succ it Up Buttercup
DESCRIPTION:This is a come as you please\, open house style event. No registration needed (please mark yourself as going HERE so we can be sure to bring enough supplies for everyone attending.) Come any time between 1:00-5:00pm to create your very own unique\, one of a kind succulent creation! More Information
X-ALT-DESC;FMTTYPE=text/html:<span style="color: rgb(0\, 0\, 0)\; font-family: Roboto\, &quot\;Lucida Grande&quot\;\, arial\, sans-serif\; font-size: 14px\;">This is a come as you please\, open house style event. No registration needed (please mark yourself as going</span><span style="font-weight: 700\; color: rgb(0\, 0\, 0)\; font-family: Roboto\, &quot\;Lucida Grande&quot\;\, arial\, sans-serif\; font-size: 14px\;">&nbsp\;<a data-id="l-1575377065" href="https://www.facebook.com/events/2438957823023170/" rel="nofollow" style="color: rgb(28\, 110\, 152)\;" target="_blank">HERE</a></span><span style="color: rgb(0\, 0\, 0)\; font-family: Roboto\, &quot\;Lucida Grande&quot\;\, arial\, sans-serif\; font-size: 14px\;">&nbsp\;so we can be sure to bring enough supplies for everyone attending.) Come any time between 1:00-5:00pm to create your very own unique\, one of a kind succulent creation!&nbsp\;</span><a data-id="l-2415285483" href="https://www.facebook.com/events/2438957823023170/" rel="nofollow" style="color: rgb(28\, 110\, 152)\; font-family: Roboto\, &quot\;Lucida Grande&quot\;\, arial\, sans-serif\; font-size: 14px\;" target="_blank">More Information</a>
LOCATION:The Uncommon Loon Brewery 10825 Lake Blvd Chisago City\, MN 55013 651-321-4468
UID:e.3575.179
SEQUENCE:3
DTSTAMP:20260424T151021Z
URL:https://business.chisagolakeschamber.com/events/details/succ-it-up-buttercup-179
END:VEVENT

END:VCALENDAR
