BEGIN:VCALENDAR
VERSION:2.0
PRODID:-//ChamberMaster//Event Calendar 2.0//EN
METHOD:PUBLISH
X-PUBLISHED-TTL:P3D
REFRESH-INTERVAL:P3D
CALSCALE:GREGORIAN
BEGIN:VEVENT
DTSTART:20200215T000000Z
DTEND:20200215T020000Z
X-MICROSOFT-CDO-ALLDAYEVENT:FALSE
SUMMARY:Sweetheart Dinner at Gustaf's On Main Eatery
DESCRIPTION:February 14th Sweetheart Dinner - Treat your sweetheart to an intimate candlelight dinner in the historical Gustaf Anderson residence. Enjoy a romantic dinner for 2 with choice of authentic Swedish Meatballs or Savory Oven Roasted Breast of Chicken while being serenaded by local violinist Kiana Welsch. Dinner includes Sparkling non-alcoholic beverage\, fresh organic salad\, potatoes\, sugared carrots\, Lignonberries\, and a rich chocolate dessert a la mode.Seating at 6pm. $60 per couple plus gratuity. Reservations required. 651 263 0737. No refunds.
X-ALT-DESC;FMTTYPE=text/html:<strong><em>February 14th Sweetheart Dinner</em></strong> - Treat your sweetheart to an intimate candlelight dinner in the historical Gustaf Anderson residence. Enjoy a romantic dinner for 2 with choice of authentic Swedish Meatballs or Savory Oven Roasted Breast of Chicken while being serenaded by local violinist Kiana Welsch. Dinner includes Sparkling non-alcoholic beverage\, fresh organic salad\, potatoes\, sugared carrots\, Lignonberries\, and a rich chocolate dessert a la mode.Seating at 6pm. $60 per couple plus gratuity. Reservations required. 651 263 0737. No refunds.&nbsp\;
LOCATION:Gustaf''s On Main Eatery 13045 Lake Blvd\, Lindstrom
UID:e.3575.155
SEQUENCE:3
DTSTAMP:20260424T152254Z
URL:https://business.chisagolakeschamber.com/events/details/sweetheart-dinner-at-gustaf-s-on-main-eatery-155
END:VEVENT

END:VCALENDAR
