BEGIN:VCALENDAR
VERSION:2.0
PRODID:-//ChamberMaster//Event Calendar 2.0//EN
METHOD:PUBLISH
X-PUBLISHED-TTL:P3D
REFRESH-INTERVAL:P3D
CALSCALE:GREGORIAN
BEGIN:VEVENT
DTSTART:20220525T000000Z
DTEND:20220525T010000Z
X-MICROSOFT-CDO-ALLDAYEVENT:FALSE
SUMMARY:Tabletop Firepit Craft @ Uncommon Loon Brewing Company
DESCRIPTION:Come join us for a fun time of learning about Aromatherapy and making a Tabletop Firepit! Perfect addition to your patio table. Cost is $45 and includes ceramic pot\, smokeless tiki oil with Young Living Citronella and Lavender essential oils added. Fire glass shimmers whether it is lit or not. A free drink token for a craft beer\, hard seltzer or soda is also included in the cost.
X-ALT-DESC;FMTTYPE=text/html:<span style="color: rgb(5\, 5\, 5)\; font-family: &quot\;Segoe UI Historic&quot\;\, &quot\;Segoe UI&quot\;\, Helvetica\, Arial\, sans-serif\; font-size: 15px\;">Come join us for a fun time of learning about Aromatherapy and making a Tabletop Firepit! Perfect addition to your patio table. Cost is $45 and includes ceramic pot\, smokeless tiki oil with Young Living Citronella and Lavender essential oils added. Fire glass shimmers whether it is lit or not. A free drink token for a craft beer\, hard seltzer or soda is also included in the cost.</span>
LOCATION:Uncommon Loon Brewing Company 10825 Lake Boulevard Chisago City\, MN 55013
UID:e.3575.4272
SEQUENCE:3
DTSTAMP:20260421T115446Z
URL:https://business.chisagolakeschamber.com/events/details/tabletop-firepit-craft-uncommon-loon-brewing-company-4272
END:VEVENT

END:VCALENDAR
