BEGIN:VCALENDAR
VERSION:2.0
PRODID:-//ChamberMaster//Event Calendar 2.0//EN
METHOD:PUBLISH
X-PUBLISHED-TTL:P3D
REFRESH-INTERVAL:P3D
CALSCALE:GREGORIAN
BEGIN:VEVENT
DTSTART:20220505T223000Z
DTEND:20220506T003000Z
X-MICROSOFT-CDO-ALLDAYEVENT:FALSE
SUMMARY:Taste of the Lakes
DESCRIPTION:You might be thinking you're still full from the last Taste of the Lakes event- it can't be that time already\, can it? Yup! Last year\, we had to postpone the event due to COVID-19. So now we're bringing Taste back to its original spring season!\n\n \n\nHelp us wrap up our 45th Anniversary! Join us at the Uncommon Loon for a fun-filled evening connecting community and support the Lakes Center! Sample delicious food from up to 10 local restaurants\, enjoy locally crafted beer in the taproom\, and have fun playing fundraiser games.\n\n \n\nWhen you're full\, head over to the taproom to enjoy live music starting at 6:30!\n\n \n\nInterested in sponsoring Taste of the Lakes? Visit our website to download a sponsorship form! http://www.lc4yf.org/events/
X-ALT-DESC;FMTTYPE=text/html:<div>You might be thinking you&#39\;re still full from the last Taste of the Lakes event- it can&#39\;t be that time already\, can it? Yup! Last year\, we had to postpone the event due to COVID-19. So now we&#39\;re bringing Taste back to its original spring season!</div>\n\n<div>&nbsp\;</div>\n\n<div>Help us wrap up our 45th Anniversary! Join us at the Uncommon Loon for a fun-filled evening connecting community and support the Lakes Center! Sample delicious food from up to 10 local restaurants\, enjoy locally crafted beer in the taproom\, and have fun playing fundraiser games.</div>\n\n<div>&nbsp\;</div>\n\n<div>When you&#39\;re full\, head over to the taproom to enjoy live music starting at 6:30!</div>\n\n<div>&nbsp\;</div>\n\n<div>Interested in sponsoring Taste of the Lakes? Visit our website to download a sponsorship form!&nbsp\;<a class="oajrlxb2 g5ia77u1 qu0x051f esr5mh6w e9989ue4 r7d6kgcz rq0escxv nhd2j8a9 nc684nl6 p7hjln8o kvgmc6g5 cxmmr5t8 oygrvhab hcukyx3x jb3vyjys rz4wbd8a qt6c0cv9 a8nywdso i1ao9s8h esuyzwwr f1sip0of lzcic4wl gpro0wi8 py34i1dx" href="http://www.lc4yf.org/events/?fbclid=IwAR319Z2hAv5BNn-YFGr4KXTqa7Cn8iA3Yi79q8AY32bMM-GF-PMod-ulI_Q" rel="nofollow noopener" style="color: var(--blue-link)\; cursor: pointer\; text-decoration-line: none\; outline: none\; list-style: none\; border-width: 0px\; border-style: initial\; border-color: initial\; padding: 0px\; margin: 0px\; touch-action: manipulation\; background-color: transparent\; text-align: inherit\; display: inline\; -webkit-tap-highlight-color: transparent\; box-sizing: border-box\; font-family: inherit\;" tabindex="0" target="_blank">http://www.lc4yf.org/events/</a></div>\n
LOCATION:Uncommon Loon Brewing Company 10825 Lake Blvd Chisago City\, MN 55013
UID:e.3575.3410
SEQUENCE:3
DTSTAMP:20260421T120055Z
URL:https://business.chisagolakeschamber.com/events/details/taste-of-the-lakes-05-05-2022-3410
END:VEVENT

END:VCALENDAR
