BEGIN:VCALENDAR
VERSION:2.0
PRODID:-//ChamberMaster//Event Calendar 2.0//EN
METHOD:PUBLISH
X-PUBLISHED-TTL:P3D
REFRESH-INTERVAL:P3D
CALSCALE:GREGORIAN
BEGIN:VEVENT
DTSTART:20250501T220000Z
DTEND:20250502T010000Z
X-MICROSOFT-CDO-ALLDAYEVENT:FALSE
SUMMARY:Taste of the Lakes 2025
DESCRIPTION:Join us on May 1\, 2025\, from 5:00 to 8:00 PM at Tanners Brook Golf Course for the highly anticipated "2025 Taste of the Lakes\," a delightful evening dedicated to connecting our communities and supporting the vital mission of Lakes Center for Youth and Families. This exciting event will showcase a variety of mouth-watering dishes from local restaurants\, allowing attendees to savor the flavors of our region while enjoying the company of friends and neighbors. Guests will have the opportunity to participate in a silent auction (including trips!) and a raffle\, with all proceeds directly benefiting local youth and families in the Washington\, Chisago\, and Anoka Counties. Together\, we will turn our commitment to SERVE\, CONNECT\, and ENGAGE into action\, paving the way for a brighter future for our community. Don't miss out on this unforgettable evening of fun!
X-ALT-DESC;FMTTYPE=text/html:Join us on May 1\, 2025\, from 5:00 to 8:00 PM at Tanners Brook Golf Course for the highly anticipated &quot\;2025 Taste of the Lakes\,&quot\; a delightful evening dedicated to connecting our communities and supporting the vital mission of Lakes Center for Youth and Families. This exciting event will showcase a variety of mouth-watering dishes from local restaurants\, allowing attendees to savor the flavors of our region while enjoying the company of friends and neighbors. Guests will have the opportunity to participate in a silent auction (including trips!) and a raffle\, with all proceeds directly benefiting local youth and families in the Washington\, Chisago\, and Anoka Counties. Together\, we will turn our commitment to SERVE\, CONNECT\, and ENGAGE into action\, paving the way for a brighter future for our community. Don&rsquo\;t miss out on this unforgettable evening of fun!
LOCATION:Tanners Brook Golf Course 5810 190th St N Forest Lake\, MN 55025
UID:e.3575.8193
SEQUENCE:3
DTSTAMP:20260422T002204Z
URL:https://business.chisagolakeschamber.com/events/details/taste-of-the-lakes-2025-8193
END:VEVENT

END:VCALENDAR
