BEGIN:VCALENDAR
VERSION:2.0
PRODID:-//ChamberMaster//Event Calendar 2.0//EN
METHOD:PUBLISH
X-PUBLISHED-TTL:P3D
REFRESH-INTERVAL:P3D
CALSCALE:GREGORIAN
BEGIN:VEVENT
DTSTART;VALUE=DATE:20210502
DTEND;VALUE=DATE:20210503
TRANSP:TRANSPARENT
X-MICROSOFT-CDO-ALLDAYEVENT:TRUE
SUMMARY:Taylors Falls Boat Tours
DESCRIPTION:Enjoy a trip on an authentic paddlewheel boat on the beautiful St.Croix River.
X-ALT-DESC;FMTTYPE=text/html:Enjoy a trip on an authentic paddlewheel boat on the beautiful St.Croix River.
LOCATION:220 South St\, Taylors Falls\, MN 55084
UID:e.3575.5935
SEQUENCE:3
DTSTAMP:20260423T120339Z
URL:https://business.chisagolakeschamber.com/events/details/taylors-falls-boat-tours-05-02-2021-5935
END:VEVENT

END:VCALENDAR
