BEGIN:VCALENDAR
VERSION:2.0
PRODID:-//ChamberMaster//Event Calendar 2.0//EN
METHOD:PUBLISH
X-PUBLISHED-TTL:P3D
REFRESH-INTERVAL:P3D
CALSCALE:GREGORIAN
BEGIN:VEVENT
DTSTART:20210501T170000Z
DTEND:20210501T170000Z
X-MICROSOFT-CDO-ALLDAYEVENT:FALSE
SUMMARY:Taylors Falls Canoe & Kayak Rental
DESCRIPTION:Opening Day. Enjoy a paddle downstream on the beautiful St. Croix River. Our most popular trip is 2-3 hours to Osceola Landing.
X-ALT-DESC;FMTTYPE=text/html:Opening Day. Enjoy a paddle downstream on the beautiful St. Croix River. Our most popular trip is 2-3 hours to Osceola Landing.
LOCATION:MN Interstate Park 307 Milltown Rd Taylors Falls\, MN 55084
UID:e.3575.341
SEQUENCE:3
DTSTAMP:20260423T120153Z
URL:https://business.chisagolakeschamber.com/events/details/taylors-falls-canoe-kayak-rental-341
END:VEVENT

END:VCALENDAR
