BEGIN:VCALENDAR
VERSION:2.0
PRODID:-//ChamberMaster//Event Calendar 2.0//EN
METHOD:PUBLISH
X-PUBLISHED-TTL:P3D
REFRESH-INTERVAL:P3D
CALSCALE:GREGORIAN
BEGIN:VEVENT
DTSTART:20210722T220000Z
DTEND:20210723T010000Z
X-MICROSOFT-CDO-ALLDAYEVENT:FALSE
SUMMARY:The Ninny at Uncommon Loon Brewing Co.
DESCRIPTION:T and Nae are Popping Up at Uncommon Loon Brewing Co. with The Ninny.  \n\n\n\nT and Nae are a sister team from Hugo\, MN.  They grow and sell local cut flower bouquets and produce out of their renovated horse trailer\, The Ninny.  They will be in our parking lot on Thursday evening.  Come out and enjoy the evening with Bouquets & Brews!   The Uncommon Loon offers a variety of craft beers including fruit beers and craft seltzer.
X-ALT-DESC;FMTTYPE=text/html:<div><span dir="auto" style="color:var(--primary-text)\; font-family:segoe ui historic\,segoe ui\,helvetica\,arial\,sans-serif\; font-size:0.9375rem">T and Nae are Popping Up at Uncommon Loon Brewing Co. with The Ninny.&nbsp\; </span><br />\n<br />\n<span style="color:rgb(5\, 5\, 5)\; font-family:segoe ui historic\,segoe ui\,helvetica\,arial\,sans-serif\; font-size:15px">T and Nae are a sister team from Hugo\, MN.&nbsp\; They grow and sell local cut flower bouquets and produce out of their renovated horse trailer\, The Ninny.&nbsp\;</span><span dir="auto" style="color:var(--primary-text)\; font-family:segoe ui historic\,segoe ui\,helvetica\,arial\,sans-serif\; font-size:0.9375rem">&nbsp\;They will be in our parking lot on Thursday evening.&nbsp\; Come out and enjoy the evening with Bouquets &amp\; Brews!&nbsp\; &nbsp\;The Uncommon Loon offers a variety of craft beers including fruit beers and craft seltzer.</span></div>\n\n<div>&nbsp\;</div>\n\n<div>\n<div>&nbsp\;</div>\n</div>\n
LOCATION:Uncommon Loon Brewing Co.
UID:e.3575.1285
SEQUENCE:3
DTSTAMP:20260421T104851Z
URL:https://business.chisagolakeschamber.com/events/details/the-ninny-at-uncommon-loon-brewing-co-1285
END:VEVENT

END:VCALENDAR
