BEGIN:VCALENDAR
VERSION:2.0
PRODID:-//ChamberMaster//Event Calendar 2.0//EN
METHOD:PUBLISH
X-PUBLISHED-TTL:P3D
REFRESH-INTERVAL:P3D
CALSCALE:GREGORIAN
BEGIN:VEVENT
DTSTART:20210131T000000Z
DTEND:20210131T020000Z
X-MICROSOFT-CDO-ALLDAYEVENT:FALSE
SUMMARY:Tin Can Hand-Crank Automations Art Class @ Franconia
DESCRIPTION:Tin Can Hand-Crank Automatons with Samantha Leopold-Sullivan\n\nSamantha Leopold-Sullivan holds an MFA in sculpture from Alfred University and a BA in Studio Art from Macalester College. Sam will guide students in creating their very own tin can hand-cranked automaton\, using a variety of materials. Students are encouraged to bring their own small interesting objects or keepsakes they may want to incorporate into their final piece.  More information here: Art Classes @ Franconia Commons: Tin Can Hand-Crank Automatons
X-ALT-DESC;FMTTYPE=text/html:<h3 style="box-sizing: border-box\; margin: 0px\; padding: 0px 0px 10px\; border: 0px\; outline: 0px\; font-size: 22px\; text-size-adjust: 100%\; vertical-align: baseline\; background-image: initial\; background-position: initial\; background-size: initial\; background-repeat: initial\; background-attachment: initial\; background-origin: initial\; background-clip: initial\; line-height: 1em\; font-family: &quot\;Open Sans&quot\;\, Arial\, sans-serif\;"><span style="box-sizing: border-box\; margin: 0px\; padding: 0px\; border: 0px\; outline: 0px\; text-size-adjust: 100%\; vertical-align: baseline\; background: transparent\; font-weight: 700\;">Tin Can Hand-Crank Automatons with Samantha Leopold-Sullivan</span></h3>\n\n<div style="box-sizing: border-box\; margin: 0px\; padding: 0px\; border: 0px\; outline: 0px\; font-size: 14px\; text-size-adjust: 100%\; vertical-align: baseline\; background-image: initial\; background-position: initial\; background-size: initial\; background-repeat: initial\; background-attachment: initial\; background-origin: initial\; background-clip: initial\; color: rgb(102\, 102\, 102)\; font-family: &quot\;Open Sans&quot\;\, Arial\, sans-serif\;">Samantha Leopold-Sullivan holds an MFA in sculpture from Alfred University and a BA in Studio Art from Macalester College. Sam will guide students in creating their very own tin can hand-cranked automaton\, using a variety of materials. Students are encouraged to bring their own small interesting&nbsp\;objects or keepsakes they may want to incorporate into their final piece.&nbsp\; More information here:&nbsp\;<a data-id="l-0781532845" href="https://franconia.us10.list-manage.com/track/click?u=bba47901d7d750f449cb96c00&amp\;id=43075cc8fa&amp\;e=7e128d824d" rel="nofollow" style="cursor: pointer\; color: rgb(28\, 110\, 152)\; font-family: Roboto\, &quot\;Lucida Grande&quot\;\, arial\, sans-serif\; font-size: 14px\;" target="_blank">Art Classes @ Franconia Commons: Tin Can Hand-Crank Automatons</a></div>\n
LOCATION:29836 St. Croix Trail\, Shafer 651-257-6668
UID:e.3575.346
SEQUENCE:3
DTSTAMP:20260424T012119Z
URL:https://business.chisagolakeschamber.com/events/details/tin-can-hand-crank-automations-art-class-franconia-346
END:VEVENT

END:VCALENDAR
