BEGIN:VCALENDAR
VERSION:2.0
PRODID:-//ChamberMaster//Event Calendar 2.0//EN
METHOD:PUBLISH
X-PUBLISHED-TTL:P3D
REFRESH-INTERVAL:P3D
CALSCALE:GREGORIAN
BEGIN:VEVENT
DTSTART:20221118T223000Z
DTEND:20221119T003000Z
X-MICROSOFT-CDO-ALLDAYEVENT:FALSE
SUMMARY:Turkey Tango at Lakeside Elementary
DESCRIPTION:**This event replaces the postponed Halloween Boogie Dance**\n\nRecommended for ages 8 & under\n\nTurkey Tango activities will include pumpkin bowling\, gym games and prizes\, a turkey coloring contest\, Thanksgiving tattoos\, leaf rubbing\, and our DJ will be returning with a playlist that includes the YMCA\, Bird Dance\, Freeze Dances\, the Limbo\, Electric Slide\, Hokey Pokey\, Macarena\, and more. Wally the Wildcat will be joining us for photos against a fall backdrop\, and refreshments will be served in the Lakeside cafeteria.
X-ALT-DESC;FMTTYPE=text/html:<div class="xdj266r x11i5rnm xat24cr x1mh8g0r x1vvkbs" style="margin: 0px\; overflow-wrap: break-word\; font-family: &quot\;Segoe UI Historic&quot\;\, &quot\;Segoe UI&quot\;\, Helvetica\, Arial\, sans-serif\; color: rgb(5\, 5\, 5)\; font-size: 15px\;"><span style="font-size:14px\;"><span style="font-family:arial\;">**This event replaces the postponed Halloween Boogie Dance**</span></span></div>\n\n<div class="x11i5rnm xat24cr x1mh8g0r x1vvkbs xtlvy1s" style="margin: 0.5em 0px 0px\; overflow-wrap: break-word\; font-family: &quot\;Segoe UI Historic&quot\;\, &quot\;Segoe UI&quot\;\, Helvetica\, Arial\, sans-serif\; color: rgb(5\, 5\, 5)\; font-size: 15px\;"><span style="font-size:14px\;"><span style="font-family:arial\;">Recommended for ages 8 &amp\; under</span></span></div>\n\n<div class="x11i5rnm xat24cr x1mh8g0r x1vvkbs xtlvy1s" style="margin: 0.5em 0px 0px\; overflow-wrap: break-word\; font-family: &quot\;Segoe UI Historic&quot\;\, &quot\;Segoe UI&quot\;\, Helvetica\, Arial\, sans-serif\; color: rgb(5\, 5\, 5)\; font-size: 15px\;"><span style="font-size:14px\;"><span style="font-family:arial\;">Turkey Tango activities will include pumpkin bowling\, gym games and prizes\, a turkey coloring contest\, Thanksgiving tattoos\, leaf rubbing\, and our DJ will be returning with a playlist that includes the YMCA\, Bird Dance\, Freeze Dances\, the Limbo\, Electric Slide\, Hokey Pokey\, Macarena\, and more. Wally the Wildcat will be joining us for photos against a fall backdrop\, and refreshments will be served in the Lakeside cafeteria.</span></span></div>\n
LOCATION:Lakeside Elementary 29678 Karmel Avenue Chisago City\, MN 55013
UID:e.3575.5336
SEQUENCE:3
DTSTAMP:20260422T201540Z
URL:https://business.chisagolakeschamber.com/events/details/turkey-tango-at-lakeside-elementary-5336
END:VEVENT

END:VCALENDAR
