BEGIN:VCALENDAR
VERSION:2.0
PRODID:-//ChamberMaster//Event Calendar 2.0//EN
METHOD:PUBLISH
X-PUBLISHED-TTL:P3D
REFRESH-INTERVAL:P3D
CALSCALE:GREGORIAN
BEGIN:VEVENT
DTSTART:20201205T170000Z
DTEND:20201205T210000Z
X-MICROSOFT-CDO-ALLDAYEVENT:FALSE
SUMMARY:Upper Level Boutique
DESCRIPTION:Join us in the upper level Gustaf's On Main Eatery for a "mini-mart" of high quality items to shop from. Products will include kitchen items\, bags & purses\, facial products\, personal care\, natural cleaning\, nails\, essential oils plus more. Experts in their product lines will be on hand to help you find the perfect item for you or someone you want to share with. Social distancing will be adhered to and masks requested. The eatery will be open in the lower level from 9:00am-4:00pm.
X-ALT-DESC;FMTTYPE=text/html:<span style="color: rgb(102\, 102\, 102)\; font-family: Roboto\, &quot\;Lucida Grande&quot\;\, arial\, sans-serif\; font-size: 14px\; text-align: justify\;">Join us in the upper level Gustaf&#39\;s On Main Eatery for a &quot\;mini-mart&quot\; of high quality items to shop from. Products will include kitchen items\, bags &amp\; purses\, facial products\, personal care\, natural cleaning\, nails\, essential oils plus more. Experts in their product lines will be on hand to help you find the perfect item for you or someone you want to share with. Social distancing will be adhered to and masks requested. The eatery will be open in the lower level from 9:00am-4:00pm.</span>
LOCATION:Gustaf's On Main Eatery 13045 Lake Blvd\, Lindstrom 651-263-0737 www.gustafseatery.com
UID:e.3575.336
SEQUENCE:3
DTSTAMP:20260424T023055Z
URL:https://business.chisagolakeschamber.com/events/details/upper-level-boutique-336
END:VEVENT

END:VCALENDAR
