BEGIN:VCALENDAR
VERSION:2.0
PRODID:-//ChamberMaster//Event Calendar 2.0//EN
METHOD:PUBLISH
X-PUBLISHED-TTL:P3D
REFRESH-INTERVAL:P3D
CALSCALE:GREGORIAN
BEGIN:VEVENT
DTSTART:20200215T010000Z
DTEND:20200215T040000Z
X-MICROSOFT-CDO-ALLDAYEVENT:FALSE
SUMMARY:Valentine's Dinner & Dueling Piano Show
DESCRIPTION:Make Valentine's Day extra special this year with an amazing dinner and dueling piano show at Winehaven! Grab your sweetheart and your favorite song requests for a fun night of food and music at the winery! The doors open at 6:30 and dinner starts at 7:00 pm. The fun\, Hawaiian luau-themed menu includes whole roast pork or turkey along with baked beans\, pineapple cole slaw and fresh fruit. Enjoy lemon bars and macadamia nut cookies for dessert! Tickets are $65.00 per person and seating is limited so reserve your spots now by clicking HERE.
X-ALT-DESC;FMTTYPE=text/html:<span style="color: rgb(0\, 0\, 0)\; font-family: Roboto\, &quot\;Lucida Grande&quot\;\, arial\, sans-serif\; font-size: 14px\;">Make Valentine&rsquo\;s Day extra special this year with an amazing dinner and dueling piano show at Winehaven! Grab your sweetheart and your favorite song requests for a fun night of food and music at the winery! The doors open at 6:30 and dinner starts at 7:00 pm. The fun\, Hawaiian luau-themed menu includes whole roast pork or turkey along with baked beans\, pineapple cole slaw and fresh fruit. Enjoy lemon bars and macadamia nut cookies for dessert! Tickets are $65.00 per person and seating is limited so reserve your spots now by clicking&nbsp\;</span><a data-id="l-5471926291" href="https://www.eventbrite.com/e/dinner-and-dueling-pianos-at-winehaven-winery-tickets-83917885655" rel="nofollow" style="color: rgb(28\, 110\, 152)\; font-family: Roboto\, &quot\;Lucida Grande&quot\;\, arial\, sans-serif\; font-size: 14px\;" target="_blank">HERE</a><span style="color: rgb(0\, 0\, 0)\; font-family: Roboto\, &quot\;Lucida Grande&quot\;\, arial\, sans-serif\; font-size: 14px\;">.&nbsp\;</span>
LOCATION:Winehaven Winery 100020 Deer Garden Lane Chisago City\, MN 55013 651-257-1017
UID:e.3575.180
SEQUENCE:3
DTSTAMP:20260424T150225Z
URL:https://business.chisagolakeschamber.com/events/details/valentine-s-dinner-dueling-piano-show-180
END:VEVENT

END:VCALENDAR
