BEGIN:VCALENDAR
VERSION:2.0
PRODID:-//ChamberMaster//Event Calendar 2.0//EN
METHOD:PUBLISH
X-PUBLISHED-TTL:P3D
REFRESH-INTERVAL:P3D
CALSCALE:GREGORIAN
BEGIN:VEVENT
DTSTART:20200209T213000Z
DTEND:20200209T230000Z
X-MICROSOFT-CDO-ALLDAYEVENT:FALSE
SUMMARY:Valentine's Tea Party at Gustaf's On Main
DESCRIPTION:Includes several tea options\, finger sandwiches\, scones\, soup\, and dessert. $20 per person plus gratuity. Reservations required. If inclement weather\, we will apply payment to future events or menu items
X-ALT-DESC;FMTTYPE=text/html:<span style="font-family:calibri\,sans-serif\;"><span style="font-size:11.0pt\;">&nbsp\;Includes several tea options\, finger sandwiches\, scones\, soup\, and dessert. $20 per person plus gratuity. Reservations required. If inclement weather\,&nbsp\;we will apply payment to future events or menu items</span></span>
LOCATION:Gustaf's On Main Eatery 13045 Lake Blvd\, Lindstrom 55045
UID:e.3575.154
SEQUENCE:3
DTSTAMP:20260424T152831Z
URL:https://business.chisagolakeschamber.com/events/details/valentine-s-tea-party-at-gustaf-s-on-main-154
END:VEVENT

END:VCALENDAR
