BEGIN:VCALENDAR
VERSION:2.0
PRODID:-//ChamberMaster//Event Calendar 2.0//EN
METHOD:PUBLISH
X-PUBLISHED-TTL:P3D
REFRESH-INTERVAL:P3D
CALSCALE:GREGORIAN
BEGIN:VEVENT
DTSTART:20221028T000000Z
DTEND:20221028T023000Z
X-MICROSOFT-CDO-ALLDAYEVENT:FALSE
SUMMARY:Vinyl Night @ The Uncommon Loon Brewing Co
DESCRIPTION:The Uncommon Loon Brewing Company is hosting a Vinyl Night\, a social get together for music lovers that spin vinyl. The Loon will provide a stereo\, speakers\, amplifier and turntable so bring your favorite records to spin\, trade\, barter and maybe even sell (please limit your records to one box.).\n\n \n\nGrab your friends\, your vinyl and a craft beer from the Loon and join us in the event center.  All are welcome whether you bring vinyl or come to listen.
X-ALT-DESC;FMTTYPE=text/html:<div>The Uncommon Loon Brewing Company is hosting a Vinyl Night\, a social get together for music lovers that spin vinyl. The Loon will provide a stereo\, speakers\, amplifier and turntable so bring your favorite records to spin\, trade\, barter and maybe even sell (please limit your records to one box.).<br />\n&nbsp\;</div>\n\n<div>Grab your friends\, your vinyl and a craft beer from the Loon and join us in the event center.&nbsp\;&nbsp\;All are welcome whether you bring vinyl or come to listen.</div>\n
LOCATION:Uncommon Loon Brewing Co.
UID:e.3575.5330
SEQUENCE:3
DTSTAMP:20260422T215313Z
URL:https://business.chisagolakeschamber.com/events/details/vinyl-night-the-uncommon-loon-brewing-co-5330
END:VEVENT

END:VCALENDAR
