BEGIN:VCALENDAR
VERSION:2.0
PRODID:-//ChamberMaster//Event Calendar 2.0//EN
METHOD:PUBLISH
X-PUBLISHED-TTL:P3D
REFRESH-INTERVAL:P3D
CALSCALE:GREGORIAN
BEGIN:VEVENT
DTSTART:20210113T000000Z
DTEND:20210113T013000Z
X-MICROSOFT-CDO-ALLDAYEVENT:FALSE
SUMMARY:Virtual Dinner & Discussion with Andrew Erdos
DESCRIPTION:Franconia Sculpture Park is pleased to present Andrew Erdos: The Flash of Silver Breaths on the Wing of the Sky\, opening January 16\, 2021 in the Mardag Gallery at Franconia Commons. Taking its name from Joy Harjo's 1989 Secrets from the Center of the World\, Erdos' solo exhibition explores themes of geological time\, industrial ruin\, infinite space\, and the horizon.\n\nFranconia's longstanding "Dinner & Discussion" lecture series invites the community to engage with visiting artists in a fun and informal setting. Please join us from the comfort of your own home and send your questions for Andrew through Facebook Live!  Virtual Dinner & Discussion: Andrew Erdos
X-ALT-DESC;FMTTYPE=text/html:<p style="--timely-white:white\; --timely-egg-shell:#f0ead6\; --timely-orange:#ffc107\; --timely-white-grey:rgba(0\, 0\, 0\, 0.04)\; --timely-black:black\; --timely-light-green:#95c1af\; --timely-green:#82c144\; --timely-dark-green:#6ca038\; --timely-red:#c14444\; --timely-dark-red:#9f2222\; --timely-light-blue:#f0f4fa\; --timely-sky-blue:#17a2b8\; --timely-blue:#a2abc9\; --timely-grey-blue:#8089a7\; --timely-light-grey:#999999\; --timely-grey:#666666\; --timely-dark-grey:#333333\; --timely-border-color:#d8d8d8\; --timely-today-color:#fffbe1\; margin-top: 0px\; margin-bottom: 10px\; font-family: Poppins\, &quot\;Helvetica Neue&quot\;\, Helvetica\, Arial\, sans-serif\; font-size: 14px\;"><span style="--timely-white:white\; --timely-egg-shell:#f0ead6\; --timely-orange:#ffc107\; --timely-white-grey:rgba(0\, 0\, 0\, 0.04)\; --timely-black:black\; --timely-light-green:#95c1af\; --timely-green:#82c144\; --timely-dark-green:#6ca038\; --timely-red:#c14444\; --timely-dark-red:#9f2222\; --timely-light-blue:#f0f4fa\; --timely-sky-blue:#17a2b8\; --timely-blue:#a2abc9\; --timely-grey-blue:#8089a7\; --timely-light-grey:#999999\; --timely-grey:#666666\; --timely-dark-grey:#333333\; --timely-border-color:#d8d8d8\; --timely-today-color:#fffbe1\; font-family: tahoma\, arial\, helvetica\, sans-serif\; font-size: 10pt\;"><span style="--timely-white:white\; --timely-egg-shell:#f0ead6\; --timely-orange:#ffc107\; --timely-white-grey:rgba(0\, 0\, 0\, 0.04)\; --timely-black:black\; --timely-light-green:#95c1af\; --timely-green:#82c144\; --timely-dark-green:#6ca038\; --timely-red:#c14444\; --timely-dark-red:#9f2222\; --timely-light-blue:#f0f4fa\; --timely-sky-blue:#17a2b8\; --timely-blue:#a2abc9\; --timely-grey-blue:#8089a7\; --timely-light-grey:#999999\; --timely-grey:#666666\; --timely-dark-grey:#333333\; --timely-border-color:#d8d8d8\; --timely-today-color:#fffbe1\; font-variant-numeric: normal\; font-variant-east-asian: normal\; background-color: transparent\; text-align: justify\; vertical-align: baseline\; white-space: pre-wrap\;">Franconia Sculpture Park is pleased to present </span><a href="https://www.franconia.org/andrew-erdos/" style="--timely-white:white\; --timely-egg-shell:#f0ead6\; --timely-orange:#ffc107\; --timely-white-grey:rgba(0\, 0\, 0\, 0.04)\; --timely-black:black\; --timely-light-green:#95c1af\; --timely-green:#82c144\; --timely-dark-green:#6ca038\; --timely-red:#c14444\; --timely-dark-red:#9f2222\; --timely-light-blue:#f0f4fa\; --timely-sky-blue:#17a2b8\; --timely-blue:#a2abc9\; --timely-grey-blue:#8089a7\; --timely-light-grey:#999999\; --timely-grey:#666666\; --timely-dark-grey:#333333\; --timely-border-color:#d8d8d8\; --timely-today-color:#fffbe1\; cursor: pointer\; text-decoration-line: none\; color: var(--timely-grey-blue)\; word-break: break-word\;" target="_blank"><span style="--timely-white:white\; --timely-egg-shell:#f0ead6\; --timely-orange:#ffc107\; --timely-white-grey:rgba(0\, 0\, 0\, 0.04)\; --timely-black:black\; --timely-light-green:#95c1af\; --timely-green:#82c144\; --timely-dark-green:#6ca038\; --timely-red:#c14444\; --timely-dark-red:#9f2222\; --timely-light-blue:#f0f4fa\; --timely-sky-blue:#17a2b8\; --timely-blue:#a2abc9\; --timely-grey-blue:#8089a7\; --timely-light-grey:#999999\; --timely-grey:#666666\; --timely-dark-grey:#333333\; --timely-border-color:#d8d8d8\; --timely-today-color:#fffbe1\; font-variant-numeric: normal\; font-variant-east-asian: normal\; background-color: transparent\; text-align: justify\; font-weight: bold\; font-style: italic\; vertical-align: baseline\; white-space: pre-wrap\;">Andrew Erdos: The Flash of Silver Breaths on the Wing of the Sky</span></a><span style="--timely-white:white\; --timely-egg-shell:#f0ead6\; --timely-orange:#ffc107\; --timely-white-grey:rgba(0\, 0\, 0\, 0.04)\; --timely-black:black\; --timely-light-green:#95c1af\; --timely-green:#82c144\; --timely-dark-green:#6ca038\; --timely-red:#c14444\; --timely-dark-red:#9f2222\; --timely-light-blue:#f0f4fa\; --timely-sky-blue:#17a2b8\; --timely-blue:#a2abc9\; --timely-grey-blue:#8089a7\; --timely-light-grey:#999999\; --timely-grey:#666666\; --timely-dark-grey:#333333\; --timely-border-color:#d8d8d8\; --timely-today-color:#fffbe1\; font-variant-numeric: normal\; font-variant-east-asian: normal\; background-color: transparent\; text-align: justify\; font-weight: bold\; vertical-align: baseline\; white-space: pre-wrap\;">\, opening January 16\, 2021 in the Mardag Gallery at Franconia Commons.</span><span style="--timely-white:white\; --timely-egg-shell:#f0ead6\; --timely-orange:#ffc107\; --timely-white-grey:rgba(0\, 0\, 0\, 0.04)\; --timely-black:black\; --timely-light-green:#95c1af\; --timely-green:#82c144\; --timely-dark-green:#6ca038\; --timely-red:#c14444\; --timely-dark-red:#9f2222\; --timely-light-blue:#f0f4fa\; --timely-sky-blue:#17a2b8\; --timely-blue:#a2abc9\; --timely-grey-blue:#8089a7\; --timely-light-grey:#999999\; --timely-grey:#666666\; --timely-dark-grey:#333333\; --timely-border-color:#d8d8d8\; --timely-today-color:#fffbe1\; font-variant-numeric: normal\; font-variant-east-asian: normal\; background-color: transparent\; text-align: justify\; vertical-align: baseline\; white-space: pre-wrap\;"> Taking its name from Joy Harjo&rsquo\;s 1989 </span><span style="--timely-white:white\; --timely-egg-shell:#f0ead6\; --timely-orange:#ffc107\; --timely-white-grey:rgba(0\, 0\, 0\, 0.04)\; --timely-black:black\; --timely-light-green:#95c1af\; --timely-green:#82c144\; --timely-dark-green:#6ca038\; --timely-red:#c14444\; --timely-dark-red:#9f2222\; --timely-light-blue:#f0f4fa\; --timely-sky-blue:#17a2b8\; --timely-blue:#a2abc9\; --timely-grey-blue:#8089a7\; --timely-light-grey:#999999\; --timely-grey:#666666\; --timely-dark-grey:#333333\; --timely-border-color:#d8d8d8\; --timely-today-color:#fffbe1\; font-variant-numeric: normal\; font-variant-east-asian: normal\; background-color: transparent\; text-align: justify\; font-style: italic\; vertical-align: baseline\; white-space: pre-wrap\;">Secrets from the Center of the World\, </span><span style="--timely-white:white\; --timely-egg-shell:#f0ead6\; --timely-orange:#ffc107\; --timely-white-grey:rgba(0\, 0\, 0\, 0.04)\; --timely-black:black\; --timely-light-green:#95c1af\; --timely-green:#82c144\; --timely-dark-green:#6ca038\; --timely-red:#c14444\; --timely-dark-red:#9f2222\; --timely-light-blue:#f0f4fa\; --timely-sky-blue:#17a2b8\; --timely-blue:#a2abc9\; --timely-grey-blue:#8089a7\; --timely-light-grey:#999999\; --timely-grey:#666666\; --timely-dark-grey:#333333\; --timely-border-color:#d8d8d8\; --timely-today-color:#fffbe1\; font-variant-numeric: normal\; font-variant-east-asian: normal\; background-color: transparent\; text-align: justify\; vertical-align: baseline\; white-space: pre-wrap\;">Erdos&rsquo\; solo exhibition explores themes of geological time\, industrial ruin\, infinite space\, and the horizon.</span></span></p>\n\n<p style="--timely-white:white\; --timely-egg-shell:#f0ead6\; --timely-orange:#ffc107\; --timely-white-grey:rgba(0\, 0\, 0\, 0.04)\; --timely-black:black\; --timely-light-green:#95c1af\; --timely-green:#82c144\; --timely-dark-green:#6ca038\; --timely-red:#c14444\; --timely-dark-red:#9f2222\; --timely-light-blue:#f0f4fa\; --timely-sky-blue:#17a2b8\; --timely-blue:#a2abc9\; --timely-grey-blue:#8089a7\; --timely-light-grey:#999999\; --timely-grey:#666666\; --timely-dark-grey:#333333\; --timely-border-color:#d8d8d8\; --timely-today-color:#fffbe1\; margin-top: 0px\; margin-bottom: 10px\; font-family: Poppins\, &quot\;Helvetica Neue&quot\;\, Helvetica\, Arial\, sans-serif\; font-size: 14px\;"><span style="--timely-white:white\; --timely-egg-shell:#f0ead6\; --timely-orange:#ffc107\; --timely-white-grey:rgba(0\, 0\, 0\, 0.04)\; --timely-black:black\; --timely-light-green:#95c1af\; --timely-green:#82c144\; --timely-dark-green:#6ca038\; --timely-red:#c14444\; --timely-dark-red:#9f2222\; --timely-light-blue:#f0f4fa\; --timely-sky-blue:#17a2b8\; --timely-blue:#a2abc9\; --timely-grey-blue:#8089a7\; --timely-light-grey:#999999\; --timely-grey:#666666\; --timely-dark-grey:#333333\; --timely-border-color:#d8d8d8\; --timely-today-color:#fffbe1\; font-family: tahoma\, arial\, helvetica\, sans-serif\; font-size: 10pt\;">Franconia&rsquo\;s longstanding &ldquo\;Dinner &amp\; Discussion&rdquo\; lecture series invites the community to engage with visiting artists in a fun and informal setting.&nbsp\;Please join us from the comfort of your own home and send your questions for Andrew through Facebook Live!&nbsp\;&nbsp\;</span><a data-id="l-6070734699" href="https://franconia.us10.list-manage.com/track/click?u=bba47901d7d750f449cb96c00&amp\;id=a58e673332&amp\;e=7e128d824d" rel="nofollow" style="cursor: pointer\; color: rgb(28\, 110\, 152)\; font-family: Roboto\, &quot\;Lucida Grande&quot\;\, arial\, sans-serif\; font-size: 14px\;" target="_blank">Virtual Dinner &amp\; Discussion: Andrew Erdos</a><br />\n&nbsp\;</p>\n
LOCATION:29836 St. Croix Trail\, Shafer 651-257-6668
UID:e.3575.345
SEQUENCE:3
DTSTAMP:20260424T012000Z
URL:https://business.chisagolakeschamber.com/events/details/virtual-dinner-discussion-with-andrew-erdos-345
END:VEVENT

END:VCALENDAR
