BEGIN:VCALENDAR
VERSION:2.0
PRODID:-//ChamberMaster//Event Calendar 2.0//EN
METHOD:PUBLISH
X-PUBLISHED-TTL:P3D
REFRESH-INTERVAL:P3D
CALSCALE:GREGORIAN
BEGIN:VEVENT
DTSTART:20220522T160000Z
DTEND:20220522T200000Z
X-MICROSOFT-CDO-ALLDAYEVENT:FALSE
SUMMARY:Wild Rivers Fest
DESCRIPTION:The Spring Gathering is now Wild Rivers Fest! Join us on Sunday\, May 22 at the Franconia Sculpture Park to celebrate spring weather and our love for the Riverway with live music\, local eats\, and fun activities.\n\n \n\nMiss Myra and the Moonshiners will be playing all your favorite tunes while you enjoy lunch and treats from delicious food trucks\, sip on local wine and craft beer\, meet our staff and learn about our programs\, and participate in fun activities for the whole family!\n\n\n\nExplore Franconia Sculpture Park's 50 acres of dynamic and diverse contemporary art inspired by nature and our ever-evolving world. We encourage all attendees to dress casually and comfortably\, and please bring your lawn chairs or picnic blanket. This is a rain or shine event.
X-ALT-DESC;FMTTYPE=text/html:<p style="box-sizing: border-box\; overflow-wrap: break-word\; margin-top: 0px\; margin-right: 0px\; margin-bottom: var(--tec-spacer-3)\; margin-left: 0px\; font-size: var(--tec-font-size-4)\; line-height: var(--tec-line-height-2)\; color: rgb(20\, 24\, 39)\; font-family: &quot\;Helvetica Neue&quot\;\, Helvetica\, -apple-system\, BlinkMacSystemFont\, Roboto\, Arial\, sans-serif\;">The Spring Gathering is now&nbsp\;<b style="box-sizing: border-box\;">Wild Rivers Fest</b><span style="box-sizing: border-box\;">! Join us on Sunday\, May 22 at the Franconia Sculpture Park to celebrate spring weather and our love for the Riverway with live music\, local eats\, and fun activities.</span><br />\n&nbsp\;</p>\n\n<p style="box-sizing: border-box\; overflow-wrap: break-word\; margin-top: 0px\; margin-right: 0px\; margin-bottom: var(--tec-spacer-3)\; margin-left: 0px\; font-size: var(--tec-font-size-4)\; line-height: var(--tec-line-height-2)\; color: rgb(20\, 24\, 39)\; font-family: &quot\;Helvetica Neue&quot\;\, Helvetica\, -apple-system\, BlinkMacSystemFont\, Roboto\, Arial\, sans-serif\;"><i style="box-sizing: border-box\;">Miss Myra and the Moonshiners</i><span style="box-sizing: border-box\;">&nbsp\;will be playing all your favorite tunes while you enjoy lunch and treats from&nbsp\;</span><span style="box-sizing: border-box\;">delicious food trucks</span><span style="box-sizing: border-box\;">\, sip on local&nbsp\;</span><span style="box-sizing: border-box\;">wine and craft beer</span><span style="box-sizing: border-box\;">\, meet our staff and&nbsp\;</span><span style="box-sizing: border-box\;">learn about our programs</span><span style="box-sizing: border-box\;">\, and participate in&nbsp\;</span><span style="box-sizing: border-box\;">fun activities</span><span style="box-sizing: border-box\;">&nbsp\;for the whole family!</span><br />\n<br style="box-sizing: border-box\;" />\n<span style="box-sizing: border-box\;">Explore Franconia Sculpture Park&rsquo\;s 50 acres of dynamic and diverse contemporary art inspired by nature and our ever-evolving world. We encourage all attendees to dress casually and comfortably\, and please bring your lawn chairs or picnic blanket. This is a rain or shine event.</span></p>\n
LOCATION:Franconia Sculpture Park 29836 St. Croix Trail Shafer\, MN 55074
UID:e.3575.4276
SEQUENCE:3
DTSTAMP:20260421T115422Z
URL:https://business.chisagolakeschamber.com/events/details/wild-rivers-fest-4276
END:VEVENT

END:VCALENDAR
