BEGIN:VCALENDAR
VERSION:2.0
PRODID:-//ChamberMaster//Event Calendar 2.0//EN
METHOD:PUBLISH
X-PUBLISHED-TTL:P3D
REFRESH-INTERVAL:P3D
CALSCALE:GREGORIAN
BEGIN:VEVENT
DTSTART;VALUE=DATE:20210430
DTEND;VALUE=DATE:20210501
TRANSP:TRANSPARENT
X-MICROSOFT-CDO-ALLDAYEVENT:TRUE
SUMMARY:Wildwood RV Park & Campground
DESCRIPTION:Opening day for the 2021 season.
X-ALT-DESC;FMTTYPE=text/html:Opening day for the 2021 season.
LOCATION:20078 Lake Blvd\, Shafer\, MN 55074
UID:e.3575.339
SEQUENCE:3
DTSTAMP:20260423T131820Z
URL:https://business.chisagolakeschamber.com/events/details/wildwood-rv-park-campground-339
END:VEVENT

END:VCALENDAR
